Workbook

Sheet 説明
A4: 積算内訳書の作成について
B7: １.積算内訳書記載の際に金額の確認の参考にお使いください。
B9: ２.施設別積算内訳の各シートに、常時電力基本料金及び電力量料金の単価を入力してください。(ｂ・ｆ欄)
B11: ３.積算内訳書（提出用）のシートに総計が自動的に計算されますので、適正か確認してください。
B13: ４.入札書記載の金額は、単価を税抜きで記載の場合は、合計金額を記入し、税込の場合は税を控除した外税総価を記入します。
B15: ５.内訳書の提出は、積算内訳書（提出用）のみで結構です。入札書と一緒に封筒に入れて提出してください。※内訳書の単価欄も入力をお願いします。
B17: ※この内訳書は、あくまで参考資料です。必ず各自で積算内訳書を作成し、確認をお願いいたします。

Sheet 内訳表(提出用)
A1: 入札書積算内訳書 | E1: （商号又は名称及び代表者名）
A3: 八潮市役所本庁舎ほか３６施設で使用する電気（単価契約）
B4: 施設名称 | C4: 需要場所 | D4: 基本料金 （円／kW） | E4: 電力量料金 （円／kWh） | G4: 金額
A5: 1 | B5: 八潮市役所本庁舎 | C5: 八潮市中央一丁目２番地１ | G5: ='積算内訳（1本庁舎）'!$J$22 -> 0
A6: 2 | B6: 旧八潮市立保健センター（閉所） | C6: 八潮市八潮八丁目１０番地１ | G6: ='積算内訳（２旧八潮市立保健センター（閉所））'!$J$22 -> 0
A7: 3 | B7: 文化スポーツセンター（閉館） | C7: 八潮市八潮三丁目３１番地１ | G7: ='積算内訳（３文化スポーツセンター（閉館））'!$J$22 -> 0
A8: 4 | B8: 駅前出張所 | C8: 八潮市大瀬一丁目１番地１ | G8: ='積算内訳（４駅前出張所）'!$J$22 -> 0
A9: 5 | B9: リサイクルプラザ | C9: 八潮市大字八條２３６５番地１ | G9: ='積算内訳（５リサイクルプラザ）'!$J$22 -> 0
A10: 6 | B10: 八幡図書館・公民館 | C10: 八潮市中央三丁目３２番地１１ | G10: ='積算内訳（６八幡図書館・公民館）'!$J$22 -> 0
A11: 7 | B11: 勤労者福祉・スポーツセンター | C11: 八潮市大字南川崎５２３番地 | G11: ='積算内訳（７勤労者福祉・スポーツセンター）'!$J$22 -> 0
A12: 8 | B12: 八潮市立資料館 | C12: 八潮市大字南後谷７６３番地５０ | G12: ='積算内訳（８資料館）'!$J$22 -> 0
A13: 9 | B13: 八潮市立南川崎保育所 | C13: 八潮市大字南川崎２０７番地１ | G13: ='積算内訳（９南川崎保育所）'!$J$22 -> 0
A14: 10 | B14: 北公園 | C14: 八潮市大字新町３０番地 | G14: ='積算内訳（10北公園）'!$J$22 -> 0
A15: 11 | B15: 八潮メセナ | C15: 八潮市中央一丁目１０番地１ | G15: ='積算内訳（11八潮メセナ）'!$J$22 -> 0
A16: 12 | B16: 八潮市立鶴ケ曽根体育館 | C16: 八潮市大字鶴ケ曽根１５３５番地１ | G16: ='積算内訳（12八潮市立鶴ヶ曽根体育館）'!$J$22 -> 0
A17: 13 | B17: 浮塚排水機場 | C17: 八潮市大字浮塚６７０番地 | G17: ='積算内訳（13浮塚排水機場）'!$J$22 -> 0
A18: 14 | B18: 木曽根排水機場 | C18: 八潮市大字木曽根９６２番地 | G18: ='積算内訳（14木曽根排水機場）'!$J$22 -> 0
A19: 15 | B19: 中馬場排水機場 | C19: 八潮市八潮八丁目２０番地１ | G19: ='積算内訳（15中馬場排水機場）'!$J$22 -> 0
A20: 16 | B20: 古新田排水機場 | C20: 八潮市大字垳２番地 | G20: ='積算内訳（16古新田排水機場）'!$J$22 -> 0
A21: 17 | B21: 八條小学校 | C21: 八潮市大字鶴ヶ曽根１番地 | G21: ='積算内訳（17八條小学校） '!$J$22 -> 0
A22: 18 | B22: 潮止小学校 | C22: 八潮市大字南川崎８２２番地 | G22: ='積算内訳（18潮止小学校）'!$J$22 -> 0
A23: 19 | B23: 八幡小学校 | C23: 八潮市中央四丁目２１番地１６ | G23: ='積算内訳（19八幡小学校）'!$J$22 -> 0
A24: 20 | B24: 大曽根小学校 | C24: 八潮市大字垳５２７番地 | G24: ='積算内訳（20大曽根小学校）'!$J$22 -> 0
A25: 21 | B25: 松之木小学校 | C25: 八潮市緑町三丁目９番地１ | G25: ='積算内訳（21松之木小学校）'!$J$22 -> 0
A26: 22 | B26: 中川小学校 | C26: 八潮市大字大瀬１５１６番地 | G26: ='積算内訳（22中川小学校）'!$J$22 -> 0
A27: 23 | B27: 八條北小学校 | C27: 八潮市大字八條１１５０番地 | G27: ='積算内訳（23八條北小学校）'!$J$22 -> 0
A28: 24 | B28: 大瀬小学校 | C28: 八潮市大瀬三丁目９番地１ | G28: ='積算内訳（24大瀬小学校）'!$J$22 -> 0
A29: 25 | B29: 大原小学校 | C29: 八潮市八潮七丁目４２番地１ | G29: ='積算内訳（25大原小学校）'!$J$22 -> 0
A30: 26 | B30: 柳之宮小学校 | C30: 八潮市大字柳之宮１４０番地 | G30: ='積算内訳（26柳之宮小学校）'!$J$22 -> 0
A31: 27 | B31: 八潮中学校 | C31: 八潮市中央一丁目１番地２ | G31: ='積算内訳（27八潮中学校）'!$J$22 -> 0
A32: 28 | B32: 大原中学校 | C32: 八潮市八潮五丁目９番地１ | G32: ='積算内訳（28大原中学校）'!$J$22 -> 0
A33: 29 | B33: 八條中学校 | C33: 八潮市大字八條５５５番地 | G33: ='積算内訳（29八條中学校）'!$J$22 -> 0
A34: 30 | B34: 八幡中学校 | C34: 八潮市緑町四丁目１９番地１ | G34: ='積算内訳（30八幡中学校）'!$J$22 -> 0
A35: 31 | B35: 潮止中学校 | C35: 八潮市大字古新田５３０番地 | G35: ='積算内訳（31潮止中学校）'!$J$22 -> 0
A36: 32 | B36: 西袋排水機場 | C36: 八潮市大字西袋６２番地１ | G36: ='積算内訳（32西袋排水機場）'!$J$22 -> 0
A37: 33 | B37: 南後谷排水機場 | C37: 八潮市大字南後谷９４６番地 | G37: ='積算内訳（33南後谷排水機場）'!$J$22 -> 0
A38: 34 | B38: 鳥内排水機場 | C38: 八潮市大瀬１６６番地２ | G38: ='積算内訳（34鳥内排水機場）'!$J$22 -> 0
A39: 35 | B39: 西袋汚水中継ポンプ場 | C39: 八潮市八潮八丁目２３番地 | G39: ='積算内訳（35西袋汚水中継ポンプ場）'!$J$22 -> 0
A40: 36 | B40: 中央浄水場 | C40: 八潮市中央一丁目３番地１ | G40: ='積算内訳（36中央浄水場）'!$J$22 -> 0
A41: 37 | B41: 南部配水場 | C41: 八潮市大字古新田３６５番地１ | G41: ='積算内訳（37南部配水場）'!$J$22 -> 0
A42: 合計金額（消費税込み） | G42: =SUM(G5:G41) -> 0
A43: 外税総価(合計金額×１００／１１０） | G43: =ROUNDUP(G42/1.1,0) -> 0
B45: ※入札書に記載する金額について
B46: 単価を税抜きで積算している場合→合計金額
B47: 単価を税込みで積算している場合→外税総価

Sheet 積算内訳（1本庁舎）
B3: 施設名： | C3: 1 | D3: 八潮市役所本庁舎
C5: 常時電力基本料金 | G5: 電力量料金 | J5: 総計 （円）
A6: 2
C7: 契約電力 （kＷ) | D7: 単価 （円/kＷ) | E7: 力率 （％） | F7: 合計 （円） | G7: 予定使用電力量 （kＷh） | H7: 単価 （円/kＷh) | I7: 合計 （円）
C9: a | D9: ｂ | E9: c | F9: d（=a×b×（1.85－c/100）） | G9: e | H9: f | I9: g(=e×f） | J9: j＝d＋g
B10: 令和9年1月 | C10: =[1]需要場所等一覧!$D$3 -> 530 | E10: 100 | F10: =C10*D10*(1.85-E10/100) -> 0 | G10: 122083 | I10: =G10*H10 -> 0 | J10: =ROUNDDOWN(F10+I10,0) -> 0
B11: 令和9年2月 | C11: =[1]需要場所等一覧!$D$3 -> 530 | E11: 100 | F11: =C11*D11*(1.85-E11/100) -> 0 | G11: 112183 | I11: =G11*H11 -> 0 | J11: =ROUNDDOWN(F11+I11,0) -> 0
B12: 令和9年3月 | C12: =[1]需要場所等一覧!$D$3 -> 530 | E12: 100 | F12: =C12*D12*(1.85-E12/100) -> 0 | G12: 99785 | I12: =G12*H12 -> 0 | J12: =ROUNDDOWN(F12+I12,0) -> 0
B13: 令和9年4月 | C13: =[1]需要場所等一覧!$D$3 -> 530 | E13: 100 | F13: =C13*D13*(1.85-E13/100) -> 0 | G13: 80710 | I13: =G13*H13 -> 0 | J13: =ROUNDDOWN(F13+I13,0) -> 0
B14: 令和9年5月 | C14: =[1]需要場所等一覧!$D$3 -> 530 | E14: 100 | F14: =C14*D14*(1.85-E14/100) -> 0 | G14: 81382 | I14: =G14*H14 -> 0 | J14: =ROUNDDOWN(F14+I14,0) -> 0
B15: 令和9年6月 | C15: =[1]需要場所等一覧!$D$3 -> 530 | E15: 100 | F15: =C15*D15*(1.85-E15/100) -> 0 | G15: 105031 | I15: =G15*H15 -> 0 | J15: =ROUNDDOWN(F15+I15,0) -> 0
B16: 令和9年7月 | C16: =[1]需要場所等一覧!$D$3 -> 530 | E16: 100 | F16: =C16*D16*(1.85-E16/100) -> 0 | G16: 139848 | I16: =G16*H16 -> 0 | J16: =ROUNDDOWN(F16+I16,0) -> 0
B17: 令和9年8月 | C17: =[1]需要場所等一覧!$D$3 -> 530 | E17: 100 | F17: =C17*D17*(1.85-E17/100) -> 0 | G17: 134599 | I17: =G17*H17 -> 0 | J17: =ROUNDDOWN(F17+I17,0) -> 0
B18: 令和9年9月 | C18: =[1]需要場所等一覧!$D$3 -> 530 | E18: 100 | F18: =C18*D18*(1.85-E18/100) -> 0 | G18: 116311 | I18: =G18*H18 -> 0 | J18: =ROUNDDOWN(F18+I18,0) -> 0
B19: 令和9年10月 | C19: =[1]需要場所等一覧!$D$3 -> 530 | E19: 100 | F19: =C19*D19*(1.85-E19/100) -> 0 | G19: 86146 | I19: =G19*H19 -> 0 | J19: =ROUNDDOWN(F19+I19,0) -> 0
B20: 令和9年11月 | C20: =[1]需要場所等一覧!$D$3 -> 530 | E20: 100 | F20: =C20*D20*(1.85-E20/100) -> 0 | G20: 75576 | I20: =G20*H20 -> 0 | J20: =ROUNDDOWN(F20+I20,0) -> 0
B21: 令和9年12月 | C21: =[1]需要場所等一覧!$D$3 -> 530 | E21: 100 | F21: =C21*D21*(1.85-E21/100) -> 0 | G21: 99338 | I21: =G21*H21 -> 0 | J21: =ROUNDDOWN(F21+I21,0) -> 0
B22: 令和9年の計 （A） | J22: =SUM(J10:J21) -> 0

Sheet 積算内訳（２旧八潮市立保健センター（閉所））
B3: 施設名： | C3: 2 | D3: 旧八潮市立保健センター（閉所）
C5: 常時電力基本料金 | G5: 電力量料金 | J5: 総計 （円）
A6: 2
C7: 契約電力 （kＷ) | D7: 単価 （円/kＷ) | E7: 力率 （％） | F7: 合計 （円） | G7: 予定使用電力量 （kＷh） | H7: 単価 （円/kＷh) | I7: 合計 （円）
C9: a | D9: ｂ | E9: c | F9: d（=a×b×（1.85－c/100）） | G9: e | H9: f | I9: g(=e×f） | J9: j＝d＋g
B10: 令和9年1月 | C10: 2 | E10: 100 | F10: =C10*D10*(1.85-E10/100) -> 0 | G10: 1239 | I10: =G10*H10 -> 0 | J10: =ROUNDDOWN(F10+I10,0) -> 0
B11: 令和9年2月 | C11: 2 | E11: 100 | F11: =C11*D11*(1.85-E11/100) -> 0 | G11: 1122 | I11: =G11*H11 -> 0 | J11: =ROUNDDOWN(F11+I11,0) -> 0
B12: 令和9年3月 | C12: 2 | E12: 100 | F12: =C12*D12*(1.85-E12/100) -> 0 | G12: 1219 | I12: =G12*H12 -> 0 | J12: =ROUNDDOWN(F12+I12,0) -> 0
B13: 令和9年4月 | C13: 2 | E13: 100 | F13: =C13*D13*(1.85-E13/100) -> 0 | G13: 1166 | I13: =G13*H13 -> 0 | J13: =ROUNDDOWN(F13+I13,0) -> 0
B14: 令和9年5月 | C14: 2 | E14: 100 | F14: =C14*D14*(1.85-E14/100) -> 0 | G14: 1197 | I14: =G14*H14 -> 0 | J14: =ROUNDDOWN(F14+I14,0) -> 0
B15: 令和9年6月 | C15: 2 | E15: 100 | F15: =C15*D15*(1.85-E15/100) -> 0 | G15: 1139 | I15: =G15*H15 -> 0 | J15: =ROUNDDOWN(F15+I15,0) -> 0
B16: 令和9年7月 | C16: 2 | E16: 100 | F16: =C16*D16*(1.85-E16/100) -> 0 | G16: 1152 | I16: =G16*H16 -> 0 | J16: =ROUNDDOWN(F16+I16,0) -> 0
B17: 令和9年8月 | C17: 2 | E17: 100 | F17: =C17*D17*(1.85-E17/100) -> 0 | G17: 1151 | I17: =G17*H17 -> 0 | J17: =ROUNDDOWN(F17+I17,0) -> 0
B18: 令和9年9月 | C18: 2 | E18: 100 | F18: =C18*D18*(1.85-E18/100) -> 0 | G18: 1115 | I18: =G18*H18 -> 0 | J18: =ROUNDDOWN(F18+I18,0) -> 0
B19: 令和9年10月 | C19: 2 | E19: 100 | F19: =C19*D19*(1.85-E19/100) -> 0 | G19: 1187 | I19: =G19*H19 -> 0 | J19: =ROUNDDOWN(F19+I19,0) -> 0
B20: 令和9年11月 | C20: 2 | E20: 100 | F20: =C20*D20*(1.85-E20/100) -> 0 | G20: 1138 | I20: =G20*H20 -> 0 | J20: =ROUNDDOWN(F20+I20,0) -> 0
B21: 令和9年12月 | C21: 2 | E21: 100 | F21: =C21*D21*(1.85-E21/100) -> 0 | G21: 1195 | I21: =G21*H21 -> 0 | J21: =ROUNDDOWN(F21+I21,0) -> 0
B22: 令和9年の計 （A） | J22: =SUM(J10:J21) -> 0

Sheet 積算内訳（３文化スポーツセンター（閉館））
B3: 施設名： | C3: 3 | D3: 文化スポーツセンター（閉館）
C5: 常時電力基本料金 | G5: 電力量料金 | J5: 総計 （円）
A6: 2
C7: 契約電力 （kＷ) | D7: 単価 （円/kＷ) | E7: 力率 （％） | F7: 合計 （円） | G7: 予定使用電力量 （kＷh） | H7: 単価 （円/kＷh) | I7: 合計 （円）
C9: a | D9: ｂ | E9: c | F9: d（=a×b×（1.85－c/100）） | G9: e | H9: f | I9: g(=e×f） | J9: j＝d＋g
B10: 令和9年1月 | C10: 25 | E10: 100 | F10: =C10*D10*(1.85-E10/100) -> 0 | G10: 1664 | I10: =G10*H10 -> 0 | J10: =ROUNDDOWN(F10+I10,0) -> 0
B11: 令和9年2月 | C11: 25 | E11: 100 | F11: =C11*D11*(1.85-E11/100) -> 0 | G11: 1401 | I11: =G11*H11 -> 0 | J11: =ROUNDDOWN(F11+I11,0) -> 0
B12: 令和9年3月 | C12: 25 | E12: 100 | F12: =C12*D12*(1.85-E12/100) -> 0 | G12: 1529 | I12: =G12*H12 -> 0 | J12: =ROUNDDOWN(F12+I12,0) -> 0
B13: 令和9年4月 | C13: 25 | E13: 100 | F13: =C13*D13*(1.85-E13/100) -> 0 | G13: 1561 | I13: =G13*H13 -> 0 | J13: =ROUNDDOWN(F13+I13,0) -> 0
B14: 令和9年5月 | C14: 25 | E14: 100 | F14: =C14*D14*(1.85-E14/100) -> 0 | G14: 1536 | I14: =G14*H14 -> 0 | J14: =ROUNDDOWN(F14+I14,0) -> 0
B15: 令和9年6月 | C15: 25 | E15: 100 | F15: =C15*D15*(1.85-E15/100) -> 0 | G15: 1427 | I15: =G15*H15 -> 0 | J15: =ROUNDDOWN(F15+I15,0) -> 0
B16: 令和9年7月 | C16: 25 | E16: 100 | F16: =C16*D16*(1.85-E16/100) -> 0 | G16: 1444 | I16: =G16*H16 -> 0 | J16: =ROUNDDOWN(F16+I16,0) -> 0
B17: 令和9年8月 | C17: 25 | E17: 100 | F17: =C17*D17*(1.85-E17/100) -> 0 | G17: 1434 | I17: =G17*H17 -> 0 | J17: =ROUNDDOWN(F17+I17,0) -> 0
B18: 令和9年9月 | C18: 25 | E18: 100 | F18: =C18*D18*(1.85-E18/100) -> 0 | G18: 1427 | I18: =G18*H18 -> 0 | J18: =ROUNDDOWN(F18+I18,0) -> 0
B19: 令和9年10月 | C19: 25 | E19: 100 | F19: =C19*D19*(1.85-E19/100) -> 0 | G19: 1447 | I19: =G19*H19 -> 0 | J19: =ROUNDDOWN(F19+I19,0) -> 0
B20: 令和9年11月 | C20: 25 | E20: 100 | F20: =C20*D20*(1.85-E20/100) -> 0 | G20: 1420 | I20: =G20*H20 -> 0 | J20: =ROUNDDOWN(F20+I20,0) -> 0
B21: 令和9年12月 | C21: 25 | E21: 100 | F21: =C21*D21*(1.85-E21/100) -> 0 | G21: 1498 | I21: =G21*H21 -> 0 | J21: =ROUNDDOWN(F21+I21,0) -> 0
B22: 令和9年の計 （A） | J22: =SUM(J10:J21) -> 0

Sheet 積算内訳（４駅前出張所）
B3: 施設名： | C3: 4 | D3: 駅前出張所
C5: 常時電力基本料金 | G5: 電力量料金 | J5: 総計 （円）
A6: 2
C7: 契約電力 （kＷ) | D7: 単価 （円/kＷ) | E7: 力率 （％） | F7: 合計 （円） | G7: 予定使用電力量 （kＷh） | H7: 単価 （円/kＷh) | I7: 合計 （円）
C9: a | D9: ｂ | E9: c | F9: d（=a×b×（1.85－c/100）） | G9: e | H9: f | I9: g(=e×f） | J9: j＝d＋g
B10: 令和9年1月 | C10: 73 | E10: 100 | F10: =C10*D10*(1.85-E10/100) -> 0 | G10: 10046 | I10: =G10*H10 -> 0 | J10: =ROUNDDOWN(F10+I10,0) -> 0
B11: 令和9年2月 | C11: 73 | E11: 100 | F11: =C11*D11*(1.85-E11/100) -> 0 | G11: 10089 | I11: =G11*H11 -> 0 | J11: =ROUNDDOWN(F11+I11,0) -> 0
B12: 令和9年3月 | C12: 73 | E12: 100 | F12: =C12*D12*(1.85-E12/100) -> 0 | G12: 10042 | I12: =G12*H12 -> 0 | J12: =ROUNDDOWN(F12+I12,0) -> 0
B13: 令和9年4月 | C13: 73 | E13: 100 | F13: =C13*D13*(1.85-E13/100) -> 0 | G13: 8503 | I13: =G13*H13 -> 0 | J13: =ROUNDDOWN(F13+I13,0) -> 0
B14: 令和9年5月 | C14: 73 | E14: 100 | F14: =C14*D14*(1.85-E14/100) -> 0 | G14: 8680 | I14: =G14*H14 -> 0 | J14: =ROUNDDOWN(F14+I14,0) -> 0
B15: 令和9年6月 | C15: 73 | E15: 100 | F15: =C15*D15*(1.85-E15/100) -> 0 | G15: 11359 | I15: =G15*H15 -> 0 | J15: =ROUNDDOWN(F15+I15,0) -> 0
B16: 令和9年7月 | C16: 73 | E16: 100 | F16: =C16*D16*(1.85-E16/100) -> 0 | G16: 16351 | I16: =G16*H16 -> 0 | J16: =ROUNDDOWN(F16+I16,0) -> 0
B17: 令和9年8月 | C17: 73 | E17: 100 | F17: =C17*D17*(1.85-E17/100) -> 0 | G17: 15621 | I17: =G17*H17 -> 0 | J17: =ROUNDDOWN(F17+I17,0) -> 0
B18: 令和9年9月 | C18: 73 | E18: 100 | F18: =C18*D18*(1.85-E18/100) -> 0 | G18: 14554 | I18: =G18*H18 -> 0 | J18: =ROUNDDOWN(F18+I18,0) -> 0
B19: 令和9年10月 | C19: 73 | E19: 100 | F19: =C19*D19*(1.85-E19/100) -> 0 | G19: 9691 | I19: =G19*H19 -> 0 | J19: =ROUNDDOWN(F19+I19,0) -> 0
B20: 令和9年11月 | C20: 73 | E20: 100 | F20: =C20*D20*(1.85-E20/100) -> 0 | G20: 7728 | I20: =G20*H20 -> 0 | J20: =ROUNDDOWN(F20+I20,0) -> 0
B21: 令和9年12月 | C21: 73 | E21: 100 | F21: =C21*D21*(1.85-E21/100) -> 0 | G21: 9112 | I21: =G21*H21 -> 0 | J21: =ROUNDDOWN(F21+I21,0) -> 0
B22: 令和9年の計 （A） | J22: =SUM(J10:J21) -> 0

Sheet 積算内訳（５リサイクルプラザ）
B3: 施設名： | C3: 5 | D3: リサイクルプラザ
C5: 常時電力基本料金 | G5: 電力量料金 | J5: 総計 （円）
A6: 2
C7: 契約電力 （kＷ) | D7: 単価 （円/kＷ) | E7: 力率 （％） | F7: 合計 （円） | G7: 予定使用電力量 （kＷh） | H7: 単価 （円/kＷh) | I7: 合計 （円）
C9: a | D9: ｂ | E9: c | F9: d（=a×b×（1.85－c/100）） | G9: e | H9: f | I9: g(=e×f） | J9: j＝d＋g
B10: 令和9年1月 | C10: 177 | E10: 100 | F10: =C10*D10*(1.85-E10/100) -> 0 | G10: 19303 | I10: =G10*H10 -> 0 | J10: =ROUNDDOWN(F10+I10,0) -> 0
B11: 令和9年2月 | C11: 177 | E11: 100 | F11: =C11*D11*(1.85-E11/100) -> 0 | G11: 18465 | I11: =G11*H11 -> 0 | J11: =ROUNDDOWN(F11+I11,0) -> 0
B12: 令和9年3月 | C12: 177 | E12: 100 | F12: =C12*D12*(1.85-E12/100) -> 0 | G12: 17277 | I12: =G12*H12 -> 0 | J12: =ROUNDDOWN(F12+I12,0) -> 0
B13: 令和9年4月 | C13: 177 | E13: 100 | F13: =C13*D13*(1.85-E13/100) -> 0 | G13: 15636 | I13: =G13*H13 -> 0 | J13: =ROUNDDOWN(F13+I13,0) -> 0
B14: 令和9年5月 | C14: 177 | E14: 100 | F14: =C14*D14*(1.85-E14/100) -> 0 | G14: 15103 | I14: =G14*H14 -> 0 | J14: =ROUNDDOWN(F14+I14,0) -> 0
B15: 令和9年6月 | C15: 177 | E15: 100 | F15: =C15*D15*(1.85-E15/100) -> 0 | G15: 17397 | I15: =G15*H15 -> 0 | J15: =ROUNDDOWN(F15+I15,0) -> 0
B16: 令和9年7月 | C16: 177 | E16: 100 | F16: =C16*D16*(1.85-E16/100) -> 0 | G16: 21140 | I16: =G16*H16 -> 0 | J16: =ROUNDDOWN(F16+I16,0) -> 0
B17: 令和9年8月 | C17: 177 | E17: 100 | F17: =C17*D17*(1.85-E17/100) -> 0 | G17: 19440 | I17: =G17*H17 -> 0 | J17: =ROUNDDOWN(F17+I17,0) -> 0
B18: 令和9年9月 | C18: 177 | E18: 100 | F18: =C18*D18*(1.85-E18/100) -> 0 | G18: 18324 | I18: =G18*H18 -> 0 | J18: =ROUNDDOWN(F18+I18,0) -> 0
B19: 令和9年10月 | C19: 177 | E19: 100 | F19: =C19*D19*(1.85-E19/100) -> 0 | G19: 15919 | I19: =G19*H19 -> 0 | J19: =ROUNDDOWN(F19+I19,0) -> 0
B20: 令和9年11月 | C20: 177 | E20: 100 | F20: =C20*D20*(1.85-E20/100) -> 0 | G20: 15739 | I20: =G20*H20 -> 0 | J20: =ROUNDDOWN(F20+I20,0) -> 0
B21: 令和9年12月 | C21: 177 | E21: 100 | F21: =C21*D21*(1.85-E21/100) -> 0 | G21: 18417 | I21: =G21*H21 -> 0 | J21: =ROUNDDOWN(F21+I21,0) -> 0
B22: 令和9年の計 （A） | J22: =SUM(J10:J21) -> 0

Sheet 積算内訳（６八幡図書館・公民館）
B3: 施設名： | C3: 6 | D3: 八幡図書館・公民館
C5: 常時電力基本料金 | G5: 電力量料金 | J5: 総計 （円）
A6: 2
C7: 契約電力 （kＷ) | D7: 単価 （円/kＷ) | E7: 力率 （％） | F7: 合計 （円） | G7: 予定使用電力量 （kＷh） | H7: 単価 （円/kＷh) | I7: 合計 （円）
C9: a | D9: ｂ | E9: c | F9: d（=a×b×（1.85－c/100）） | G9: e | H9: f | I9: g(=e×f） | J9: j＝d＋g
B10: 令和9年1月 | C10: 32 | E10: 100 | F10: =C10*D10*(1.85-E10/100) -> 0 | G10: 7118 | I10: =G10*H10 -> 0 | J10: =ROUNDDOWN(F10+I10,0) -> 0
B11: 令和9年2月 | C11: 32 | E11: 100 | F11: =C11*D11*(1.85-E11/100) -> 0 | G11: 6925 | I11: =G11*H11 -> 0 | J11: =ROUNDDOWN(F11+I11,0) -> 0
B12: 令和9年3月 | C12: 32 | E12: 100 | F12: =C12*D12*(1.85-E12/100) -> 0 | G12: 6553 | I12: =G12*H12 -> 0 | J12: =ROUNDDOWN(F12+I12,0) -> 0
B13: 令和9年4月 | C13: 32 | E13: 100 | F13: =C13*D13*(1.85-E13/100) -> 0 | G13: 5677 | I13: =G13*H13 -> 0 | J13: =ROUNDDOWN(F13+I13,0) -> 0
B14: 令和9年5月 | C14: 32 | E14: 100 | F14: =C14*D14*(1.85-E14/100) -> 0 | G14: 5975 | I14: =G14*H14 -> 0 | J14: =ROUNDDOWN(F14+I14,0) -> 0
B15: 令和9年6月 | C15: 32 | E15: 100 | F15: =C15*D15*(1.85-E15/100) -> 0 | G15: 6974 | I15: =G15*H15 -> 0 | J15: =ROUNDDOWN(F15+I15,0) -> 0
B16: 令和9年7月 | C16: 32 | E16: 100 | F16: =C16*D16*(1.85-E16/100) -> 0 | G16: 8467 | I16: =G16*H16 -> 0 | J16: =ROUNDDOWN(F16+I16,0) -> 0
B17: 令和9年8月 | C17: 32 | E17: 100 | F17: =C17*D17*(1.85-E17/100) -> 0 | G17: 8224 | I17: =G17*H17 -> 0 | J17: =ROUNDDOWN(F17+I17,0) -> 0
B18: 令和9年9月 | C18: 32 | E18: 100 | F18: =C18*D18*(1.85-E18/100) -> 0 | G18: 7206 | I18: =G18*H18 -> 0 | J18: =ROUNDDOWN(F18+I18,0) -> 0
B19: 令和9年10月 | C19: 32 | E19: 100 | F19: =C19*D19*(1.85-E19/100) -> 0 | G19: 6228 | I19: =G19*H19 -> 0 | J19: =ROUNDDOWN(F19+I19,0) -> 0
B20: 令和9年11月 | C20: 32 | E20: 100 | F20: =C20*D20*(1.85-E20/100) -> 0 | G20: 6134 | I20: =G20*H20 -> 0 | J20: =ROUNDDOWN(F20+I20,0) -> 0
B21: 令和9年12月 | C21: 32 | E21: 100 | F21: =C21*D21*(1.85-E21/100) -> 0 | G21: 6842 | I21: =G21*H21 -> 0 | J21: =ROUNDDOWN(F21+I21,0) -> 0
B22: 令和9年の計 （A） | J22: =SUM(J10:J21) -> 0

Sheet 積算内訳（７勤労者福祉・スポーツセンター）
B3: 施設名： | C3: 7 | D3: 勤労者福祉・スポーツセンター
C5: 常時電力基本料金 | G5: 電力量料金 | J5: 総計 （円）
A6: 2
C7: 契約電力 （kＷ) | D7: 単価 （円/kＷ) | E7: 力率 （％） | F7: 合計 （円） | G7: 予定使用電力量 （kＷh） | H7: 単価 （円/kＷh) | I7: 合計 （円）
C9: a | D9: ｂ | E9: c | F9: d（=a×b×（1.85－c/100）） | G9: e | H9: f | I9: g(=e×f） | J9: j＝d＋g
B10: 令和9年1月 | C10: 71 | E10: 100 | F10: =C10*D10*(1.85-E10/100) -> 0 | G10: 10430 | I10: =G10*H10 -> 0 | J10: =ROUNDDOWN(F10+I10,0) -> 0
B11: 令和9年2月 | C11: 71 | E11: 100 | F11: =C11*D11*(1.85-E11/100) -> 0 | G11: 10392 | I11: =G11*H11 -> 0 | J11: =ROUNDDOWN(F11+I11,0) -> 0
B12: 令和9年3月 | C12: 71 | E12: 100 | F12: =C12*D12*(1.85-E12/100) -> 0 | G12: 9444 | I12: =G12*H12 -> 0 | J12: =ROUNDDOWN(F12+I12,0) -> 0
B13: 令和9年4月 | C13: 71 | E13: 100 | F13: =C13*D13*(1.85-E13/100) -> 0 | G13: 6407 | I13: =G13*H13 -> 0 | J13: =ROUNDDOWN(F13+I13,0) -> 0
B14: 令和9年5月 | C14: 71 | E14: 100 | F14: =C14*D14*(1.85-E14/100) -> 0 | G14: 6058 | I14: =G14*H14 -> 0 | J14: =ROUNDDOWN(F14+I14,0) -> 0
B15: 令和9年6月 | C15: 71 | E15: 100 | F15: =C15*D15*(1.85-E15/100) -> 0 | G15: 8669 | I15: =G15*H15 -> 0 | J15: =ROUNDDOWN(F15+I15,0) -> 0
B16: 令和9年7月 | C16: 71 | E16: 100 | F16: =C16*D16*(1.85-E16/100) -> 0 | G16: 12381 | I16: =G16*H16 -> 0 | J16: =ROUNDDOWN(F16+I16,0) -> 0
B17: 令和9年8月 | C17: 71 | E17: 100 | F17: =C17*D17*(1.85-E17/100) -> 0 | G17: 14203 | I17: =G17*H17 -> 0 | J17: =ROUNDDOWN(F17+I17,0) -> 0
B18: 令和9年9月 | C18: 71 | E18: 100 | F18: =C18*D18*(1.85-E18/100) -> 0 | G18: 10962 | I18: =G18*H18 -> 0 | J18: =ROUNDDOWN(F18+I18,0) -> 0
B19: 令和9年10月 | C19: 71 | E19: 100 | F19: =C19*D19*(1.85-E19/100) -> 0 | G19: 7577 | I19: =G19*H19 -> 0 | J19: =ROUNDDOWN(F19+I19,0) -> 0
B20: 令和9年11月 | C20: 71 | E20: 100 | F20: =C20*D20*(1.85-E20/100) -> 0 | G20: 7872 | I20: =G20*H20 -> 0 | J20: =ROUNDDOWN(F20+I20,0) -> 0
B21: 令和9年12月 | C21: 71 | E21: 100 | F21: =C21*D21*(1.85-E21/100) -> 0 | G21: 9636 | I21: =G21*H21 -> 0 | J21: =ROUNDDOWN(F21+I21,0) -> 0
B22: 令和9年の計 （A） | J22: =SUM(J10:J21) -> 0

Sheet 積算内訳（８資料館）
B3: 施設名： | C3: 8 | D3: 八潮市立資料館
C5: 常時電力基本料金 | G5: 電力量料金 | J5: 総計 （円）
A6: 2
C7: 契約電力 （kＷ) | D7: 単価 （円/kＷ) | E7: 力率 （％） | F7: 合計 （円） | G7: 予定使用電力量 （kＷh） | H7: 単価 （円/kＷh) | I7: 合計 （円）
C9: a | D9: ｂ | E9: c | F9: d（=a×b×（1.85－c/100）） | G9: e | H9: f | I9: g(=e×f） | J9: j＝d＋g
B10: 令和9年1月 | C10: 78 | E10: 100 | F10: =C10*D10*(1.85-E10/100) -> 0 | G10: 15782 | I10: =G10*H10 -> 0 | J10: =ROUNDDOWN(F10+I10,0) -> 0
B11: 令和9年2月 | C11: 78 | E11: 100 | F11: =C11*D11*(1.85-E11/100) -> 0 | G11: 14199 | I11: =G11*H11 -> 0 | J11: =ROUNDDOWN(F11+I11,0) -> 0
B12: 令和9年3月 | C12: 78 | E12: 100 | F12: =C12*D12*(1.85-E12/100) -> 0 | G12: 11111 | I12: =G12*H12 -> 0 | J12: =ROUNDDOWN(F12+I12,0) -> 0
B13: 令和9年4月 | C13: 78 | E13: 100 | F13: =C13*D13*(1.85-E13/100) -> 0 | G13: 6792 | I13: =G13*H13 -> 0 | J13: =ROUNDDOWN(F13+I13,0) -> 0
B14: 令和9年5月 | C14: 78 | E14: 100 | F14: =C14*D14*(1.85-E14/100) -> 0 | G14: 6480 | I14: =G14*H14 -> 0 | J14: =ROUNDDOWN(F14+I14,0) -> 0
B15: 令和9年6月 | C15: 78 | E15: 100 | F15: =C15*D15*(1.85-E15/100) -> 0 | G15: 10184 | I15: =G15*H15 -> 0 | J15: =ROUNDDOWN(F15+I15,0) -> 0
B16: 令和9年7月 | C16: 78 | E16: 100 | F16: =C16*D16*(1.85-E16/100) -> 0 | G16: 15962 | I16: =G16*H16 -> 0 | J16: =ROUNDDOWN(F16+I16,0) -> 0
B17: 令和9年8月 | C17: 78 | E17: 100 | F17: =C17*D17*(1.85-E17/100) -> 0 | G17: 22027 | I17: =G17*H17 -> 0 | J17: =ROUNDDOWN(F17+I17,0) -> 0
B18: 令和9年9月 | C18: 78 | E18: 100 | F18: =C18*D18*(1.85-E18/100) -> 0 | G18: 15581 | I18: =G18*H18 -> 0 | J18: =ROUNDDOWN(F18+I18,0) -> 0
B19: 令和9年10月 | C19: 78 | E19: 100 | F19: =C19*D19*(1.85-E19/100) -> 0 | G19: 8908 | I19: =G19*H19 -> 0 | J19: =ROUNDDOWN(F19+I19,0) -> 0
B20: 令和9年11月 | C20: 78 | E20: 100 | F20: =C20*D20*(1.85-E20/100) -> 0 | G20: 9411 | I20: =G20*H20 -> 0 | J20: =ROUNDDOWN(F20+I20,0) -> 0
B21: 令和9年12月 | C21: 78 | E21: 100 | F21: =C21*D21*(1.85-E21/100) -> 0 | G21: 13622 | I21: =G21*H21 -> 0 | J21: =ROUNDDOWN(F21+I21,0) -> 0
B22: 令和9年の計 （A） | J22: =SUM(J10:J21) -> 0

Sheet 積算内訳（９南川崎保育所）
B3: 施設名： | C3: 9 | D3: 八潮市立南川崎保育所
C5: 常時電力基本料金 | G5: 電力量料金 | J5: 総計 （円）
A6: 2
C7: 契約電力 （kＷ) | D7: 単価 （円/kＷ) | E7: 力率 （％） | F7: 合計 （円） | G7: 予定使用電力量 （kＷh） | H7: 単価 （円/kＷh) | I7: 合計 （円）
C9: a | D9: ｂ | E9: c | F9: d（=a×b×（1.85－c/100）） | G9: e | H9: f | I9: g(=e×f） | J9: j＝d＋g
B10: 令和9年1月 | C10: 73 | E10: 100 | F10: =C10*D10*(1.85-E10/100) -> 0 | G10: 9192 | I10: =G10*H10 -> 0 | J10: =ROUNDDOWN(F10+I10,0) -> 0
B11: 令和9年2月 | C11: 73 | E11: 100 | F11: =C11*D11*(1.85-E11/100) -> 0 | G11: 8838 | I11: =G11*H11 -> 0 | J11: =ROUNDDOWN(F11+I11,0) -> 0
B12: 令和9年3月 | C12: 73 | E12: 100 | F12: =C12*D12*(1.85-E12/100) -> 0 | G12: 8090 | I12: =G12*H12 -> 0 | J12: =ROUNDDOWN(F12+I12,0) -> 0
B13: 令和9年4月 | C13: 73 | E13: 100 | F13: =C13*D13*(1.85-E13/100) -> 0 | G13: 5439 | I13: =G13*H13 -> 0 | J13: =ROUNDDOWN(F13+I13,0) -> 0
B14: 令和9年5月 | C14: 73 | E14: 100 | F14: =C14*D14*(1.85-E14/100) -> 0 | G14: 5672 | I14: =G14*H14 -> 0 | J14: =ROUNDDOWN(F14+I14,0) -> 0
B15: 令和9年6月 | C15: 73 | E15: 100 | F15: =C15*D15*(1.85-E15/100) -> 0 | G15: 9067 | I15: =G15*H15 -> 0 | J15: =ROUNDDOWN(F15+I15,0) -> 0
B16: 令和9年7月 | C16: 73 | E16: 100 | F16: =C16*D16*(1.85-E16/100) -> 0 | G16: 13146 | I16: =G16*H16 -> 0 | J16: =ROUNDDOWN(F16+I16,0) -> 0
B17: 令和9年8月 | C17: 73 | E17: 100 | F17: =C17*D17*(1.85-E17/100) -> 0 | G17: 12070 | I17: =G17*H17 -> 0 | J17: =ROUNDDOWN(F17+I17,0) -> 0
B18: 令和9年9月 | C18: 73 | E18: 100 | F18: =C18*D18*(1.85-E18/100) -> 0 | G18: 9945 | I18: =G18*H18 -> 0 | J18: =ROUNDDOWN(F18+I18,0) -> 0
B19: 令和9年10月 | C19: 73 | E19: 100 | F19: =C19*D19*(1.85-E19/100) -> 0 | G19: 6088 | I19: =G19*H19 -> 0 | J19: =ROUNDDOWN(F19+I19,0) -> 0
B20: 令和9年11月 | C20: 73 | E20: 100 | F20: =C20*D20*(1.85-E20/100) -> 0 | G20: 5439 | I20: =G20*H20 -> 0 | J20: =ROUNDDOWN(F20+I20,0) -> 0
B21: 令和9年12月 | C21: 73 | E21: 100 | F21: =C21*D21*(1.85-E21/100) -> 0 | G21: 7746 | I21: =G21*H21 -> 0 | J21: =ROUNDDOWN(F21+I21,0) -> 0
B22: 令和9年の計 （A） | J22: =SUM(J10:J21) -> 0

Sheet 積算内訳（10北公園）
B3: 施設名： | C3: 10 | D3: 北公園
C5: 常時電力基本料金 | G5: 電力量料金 | J5: 総計 （円）
A6: 2
C7: 契約電力 （kＷ) | D7: 単価 （円/kＷ) | E7: 力率 （％） | F7: 合計 （円） | G7: 予定使用電力量 （kＷh） | H7: 単価 （円/kＷh) | I7: 合計 （円）
C9: a | D9: ｂ | E9: c | F9: d（=a×b×（1.85－c/100）） | G9: e | H9: f | I9: g(=e×f） | J9: j＝d＋g
B10: 令和9年1月 | C10: 106 | E10: 100 | F10: =C10*D10*(1.85-E10/100) -> 0 | G10: 639 | I10: =G10*H10 -> 0 | J10: =ROUNDDOWN(F10+I10,0) -> 0
B11: 令和9年2月 | C11: 106 | E11: 100 | F11: =C11*D11*(1.85-E11/100) -> 0 | G11: 576 | I11: =G11*H11 -> 0 | J11: =ROUNDDOWN(F11+I11,0) -> 0
B12: 令和9年3月 | C12: 106 | E12: 100 | F12: =C12*D12*(1.85-E12/100) -> 0 | G12: 2650 | I12: =G12*H12 -> 0 | J12: =ROUNDDOWN(F12+I12,0) -> 0
B13: 令和9年4月 | C13: 106 | E13: 100 | F13: =C13*D13*(1.85-E13/100) -> 0 | G13: 2907 | I13: =G13*H13 -> 0 | J13: =ROUNDDOWN(F13+I13,0) -> 0
B14: 令和9年5月 | C14: 106 | E14: 100 | F14: =C14*D14*(1.85-E14/100) -> 0 | G14: 3549 | I14: =G14*H14 -> 0 | J14: =ROUNDDOWN(F14+I14,0) -> 0
B15: 令和9年6月 | C15: 106 | E15: 100 | F15: =C15*D15*(1.85-E15/100) -> 0 | G15: 3493 | I15: =G15*H15 -> 0 | J15: =ROUNDDOWN(F15+I15,0) -> 0
B16: 令和9年7月 | C16: 106 | E16: 100 | F16: =C16*D16*(1.85-E16/100) -> 0 | G16: 3699 | I16: =G16*H16 -> 0 | J16: =ROUNDDOWN(F16+I16,0) -> 0
B17: 令和9年8月 | C17: 106 | E17: 100 | F17: =C17*D17*(1.85-E17/100) -> 0 | G17: 2781 | I17: =G17*H17 -> 0 | J17: =ROUNDDOWN(F17+I17,0) -> 0
B18: 令和9年9月 | C18: 106 | E18: 100 | F18: =C18*D18*(1.85-E18/100) -> 0 | G18: 4946 | I18: =G18*H18 -> 0 | J18: =ROUNDDOWN(F18+I18,0) -> 0
B19: 令和9年10月 | C19: 106 | E19: 100 | F19: =C19*D19*(1.85-E19/100) -> 0 | G19: 3763 | I19: =G19*H19 -> 0 | J19: =ROUNDDOWN(F19+I19,0) -> 0
B20: 令和9年11月 | C20: 106 | E20: 100 | F20: =C20*D20*(1.85-E20/100) -> 0 | G20: 4792 | I20: =G20*H20 -> 0 | J20: =ROUNDDOWN(F20+I20,0) -> 0
B21: 令和9年12月 | C21: 106 | E21: 100 | F21: =C21*D21*(1.85-E21/100) -> 0 | G21: 2959 | I21: =G21*H21 -> 0 | J21: =ROUNDDOWN(F21+I21,0) -> 0
B22: 令和9年の計 （A） | J22: =SUM(J10:J21) -> 0

Sheet 積算内訳（11八潮メセナ）
B3: 施設名： | C3: 11 | D3: 八潮メセナ
C5: 常時電力基本料金 | G5: 電力量料金 | J5: 総計 （円）
A6: 2
C7: 契約電力 （kＷ) | D7: 単価 （円/kＷ) | E7: 力率 （％） | F7: 合計 （円） | G7: 予定使用電力量 （kＷh） | H7: 単価 （円/kＷh) | I7: 合計 （円）
C9: a | D9: ｂ | E9: c | F9: d（=a×b×（1.85－c/100）） | G9: e | H9: f | I9: g(=e×f） | J9: j＝d＋g
B10: 令和9年1月 | C10: 277 | E10: 100 | F10: =C10*D10*(1.85-E10/100) -> 0 | G10: 24130 | I10: =G10*H10 -> 0 | J10: =ROUNDDOWN(F10+I10,0) -> 0
B11: 令和9年2月 | C11: 277 | E11: 100 | F11: =C11*D11*(1.85-E11/100) -> 0 | G11: 31095 | I11: =G11*H11 -> 0 | J11: =ROUNDDOWN(F11+I11,0) -> 0
B12: 令和9年3月 | C12: 277 | E12: 100 | F12: =C12*D12*(1.85-E12/100) -> 0 | G12: 28663 | I12: =G12*H12 -> 0 | J12: =ROUNDDOWN(F12+I12,0) -> 0
B13: 令和9年4月 | C13: 277 | E13: 100 | F13: =C13*D13*(1.85-E13/100) -> 0 | G13: 33645 | I13: =G13*H13 -> 0 | J13: =ROUNDDOWN(F13+I13,0) -> 0
B14: 令和9年5月 | C14: 277 | E14: 100 | F14: =C14*D14*(1.85-E14/100) -> 0 | G14: 37472 | I14: =G14*H14 -> 0 | J14: =ROUNDDOWN(F14+I14,0) -> 0
B15: 令和9年6月 | C15: 277 | E15: 100 | F15: =C15*D15*(1.85-E15/100) -> 0 | G15: 38817 | I15: =G15*H15 -> 0 | J15: =ROUNDDOWN(F15+I15,0) -> 0
B16: 令和9年7月 | C16: 277 | E16: 100 | F16: =C16*D16*(1.85-E16/100) -> 0 | G16: 38732 | I16: =G16*H16 -> 0 | J16: =ROUNDDOWN(F16+I16,0) -> 0
B17: 令和9年8月 | C17: 277 | E17: 100 | F17: =C17*D17*(1.85-E17/100) -> 0 | G17: 31442 | I17: =G17*H17 -> 0 | J17: =ROUNDDOWN(F17+I17,0) -> 0
B18: 令和9年9月 | C18: 277 | E18: 100 | F18: =C18*D18*(1.85-E18/100) -> 0 | G18: 59713 | I18: =G18*H18 -> 0 | J18: =ROUNDDOWN(F18+I18,0) -> 0
B19: 令和9年10月 | C19: 277 | E19: 100 | F19: =C19*D19*(1.85-E19/100) -> 0 | G19: 39182 | I19: =G19*H19 -> 0 | J19: =ROUNDDOWN(F19+I19,0) -> 0
B20: 令和9年11月 | C20: 277 | E20: 100 | F20: =C20*D20*(1.85-E20/100) -> 0 | G20: 38842 | I20: =G20*H20 -> 0 | J20: =ROUNDDOWN(F20+I20,0) -> 0
B21: 令和9年12月 | C21: 277 | E21: 100 | F21: =C21*D21*(1.85-E21/100) -> 0 | G21: 37275 | I21: =G21*H21 -> 0 | J21: =ROUNDDOWN(F21+I21,0) -> 0
B22: 令和9年の計 （A） | J22: =SUM(J10:J21) -> 0

Sheet 積算内訳（12八潮市立鶴ヶ曽根体育館）
B3: 施設名： | C3: 12 | D3: 八潮市立鶴ｹ曽根体育館
C5: 常時電力基本料金 | G5: 電力量料金 | J5: 総計 （円）
A6: 2
C7: 契約電力 （kＷ) | D7: 単価 （円/kＷ) | E7: 力率 （％） | F7: 合計 （円） | G7: 予定使用電力量 （kＷh） | H7: 単価 （円/kＷh) | I7: 合計 （円）
C9: a | D9: ｂ | E9: c | F9: d（=a×b×（1.85－c/100）） | G9: e | H9: f | I9: g(=e×f） | J9: j＝d＋g
B10: 令和9年1月 | C10: 195 | E10: 100 | F10: =C10*D10*(1.85-E10/100) -> 0 | G10: 8935 | I10: =G10*H10 -> 0 | J10: =ROUNDDOWN(F10+I10,0) -> 0
B11: 令和9年2月 | C11: 195 | E11: 100 | F11: =C11*D11*(1.85-E11/100) -> 0 | G11: 37475 | I11: =G11*H11 -> 0 | J11: =ROUNDDOWN(F11+I11,0) -> 0
B12: 令和9年3月 | C12: 195 | E12: 100 | F12: =C12*D12*(1.85-E12/100) -> 0 | G12: 11522 | I12: =G12*H12 -> 0 | J12: =ROUNDDOWN(F12+I12,0) -> 0
B13: 令和9年4月 | C13: 195 | E13: 100 | F13: =C13*D13*(1.85-E13/100) -> 0 | G13: 17374 | I13: =G13*H13 -> 0 | J13: =ROUNDDOWN(F13+I13,0) -> 0
B14: 令和9年5月 | C14: 195 | E14: 100 | F14: =C14*D14*(1.85-E14/100) -> 0 | G14: 12546 | I14: =G14*H14 -> 0 | J14: =ROUNDDOWN(F14+I14,0) -> 0
B15: 令和9年6月 | C15: 195 | E15: 100 | F15: =C15*D15*(1.85-E15/100) -> 0 | G15: 19434 | I15: =G15*H15 -> 0 | J15: =ROUNDDOWN(F15+I15,0) -> 0
B16: 令和9年7月 | C16: 195 | E16: 100 | F16: =C16*D16*(1.85-E16/100) -> 0 | G16: 30808 | I16: =G16*H16 -> 0 | J16: =ROUNDDOWN(F16+I16,0) -> 0
B17: 令和9年8月 | C17: 195 | E17: 100 | F17: =C17*D17*(1.85-E17/100) -> 0 | G17: 45965 | I17: =G17*H17 -> 0 | J17: =ROUNDDOWN(F17+I17,0) -> 0
B18: 令和9年9月 | C18: 195 | E18: 100 | F18: =C18*D18*(1.85-E18/100) -> 0 | G18: 46342 | I18: =G18*H18 -> 0 | J18: =ROUNDDOWN(F18+I18,0) -> 0
B19: 令和9年10月 | C19: 195 | E19: 100 | F19: =C19*D19*(1.85-E19/100) -> 0 | G19: 29168 | I19: =G19*H19 -> 0 | J19: =ROUNDDOWN(F19+I19,0) -> 0
B20: 令和9年11月 | C20: 195 | E20: 100 | F20: =C20*D20*(1.85-E20/100) -> 0 | G20: 15775 | I20: =G20*H20 -> 0 | J20: =ROUNDDOWN(F20+I20,0) -> 0
B21: 令和9年12月 | C21: 195 | E21: 100 | F21: =C21*D21*(1.85-E21/100) -> 0 | G21: 19838 | I21: =G21*H21 -> 0 | J21: =ROUNDDOWN(F21+I21,0) -> 0
B22: 令和9年の計 （A） | J22: =SUM(J10:J21) -> 0

Sheet 積算内訳（13浮塚排水機場）
B3: 施設名： | C3: 13 | D3: 浮塚排水機場
C5: 常時電力基本料金 | G5: 電力量料金 | J5: 総計 （円）
A6: 2
C7: 契約電力 （kＷ) | D7: 単価 （円/kＷ) | E7: 力率 （％） | F7: 合計 （円） | G7: 予定使用電力量 （kＷh） | H7: 単価 （円/kＷh) | I7: 合計 （円）
C9: a | D9: ｂ | E9: c | F9: d（=a×b×（1.85－c/100）） | G9: e | H9: f | I9: g(=e×f） | J9: j＝d＋g
B10: 令和9年1月 | C10: 36 | E10: 100 | F10: =C10*D10*(1.85-E10/100) -> 0 | G10: 1971 | I10: =G10*H10 -> 0 | J10: =ROUNDDOWN(F10+I10,0) -> 0
B11: 令和9年2月 | C11: 36 | E11: 100 | F11: =C11*D11*(1.85-E11/100) -> 0 | G11: 1779 | I11: =G11*H11 -> 0 | J11: =ROUNDDOWN(F11+I11,0) -> 0
B12: 令和9年3月 | C12: 36 | E12: 100 | F12: =C12*D12*(1.85-E12/100) -> 0 | G12: 1861 | I12: =G12*H12 -> 0 | J12: =ROUNDDOWN(F12+I12,0) -> 0
B13: 令和9年4月 | C13: 36 | E13: 100 | F13: =C13*D13*(1.85-E13/100) -> 0 | G13: 1623 | I13: =G13*H13 -> 0 | J13: =ROUNDDOWN(F13+I13,0) -> 0
B14: 令和9年5月 | C14: 36 | E14: 100 | F14: =C14*D14*(1.85-E14/100) -> 0 | G14: 1630 | I14: =G14*H14 -> 0 | J14: =ROUNDDOWN(F14+I14,0) -> 0
B15: 令和9年6月 | C15: 36 | E15: 100 | F15: =C15*D15*(1.85-E15/100) -> 0 | G15: 1401 | I15: =G15*H15 -> 0 | J15: =ROUNDDOWN(F15+I15,0) -> 0
B16: 令和9年7月 | C16: 36 | E16: 100 | F16: =C16*D16*(1.85-E16/100) -> 0 | G16: 1400 | I16: =G16*H16 -> 0 | J16: =ROUNDDOWN(F16+I16,0) -> 0
B17: 令和9年8月 | C17: 36 | E17: 100 | F17: =C17*D17*(1.85-E17/100) -> 0 | G17: 1529 | I17: =G17*H17 -> 0 | J17: =ROUNDDOWN(F17+I17,0) -> 0
B18: 令和9年9月 | C18: 36 | E18: 100 | F18: =C18*D18*(1.85-E18/100) -> 0 | G18: 1385 | I18: =G18*H18 -> 0 | J18: =ROUNDDOWN(F18+I18,0) -> 0
B19: 令和9年10月 | C19: 36 | E19: 100 | F19: =C19*D19*(1.85-E19/100) -> 0 | G19: 1536 | I19: =G19*H19 -> 0 | J19: =ROUNDDOWN(F19+I19,0) -> 0
B20: 令和9年11月 | C20: 36 | E20: 100 | F20: =C20*D20*(1.85-E20/100) -> 0 | G20: 1547 | I20: =G20*H20 -> 0 | J20: =ROUNDDOWN(F20+I20,0) -> 0
B21: 令和9年12月 | C21: 36 | E21: 100 | F21: =C21*D21*(1.85-E21/100) -> 0 | G21: 1909 | I21: =G21*H21 -> 0 | J21: =ROUNDDOWN(F21+I21,0) -> 0
B22: 令和9年の計 （A） | J22: =SUM(J10:J21) -> 0

Sheet 積算内訳（14木曽根排水機場）
B3: 施設名： | C3: 14 | D3: 木曽根排水機場
C5: 常時電力基本料金 | G5: 電力量料金 | J5: 総計 （円）
A6: 2
C7: 契約電力 （kＷ) | D7: 単価 （円/kＷ) | E7: 力率 （％） | F7: 合計 （円） | G7: 予定使用電力量 （kＷh） | H7: 単価 （円/kＷh) | I7: 合計 （円）
C9: a | D9: ｂ | E9: c | F9: d（=a×b×（1.85－c/100）） | G9: e | H9: f | I9: g(=e×f） | J9: j＝d＋g
B10: 令和9年1月 | C10: 127 | E10: 100 | F10: =C10*D10*(1.85-E10/100) -> 0 | G10: 2702 | I10: =G10*H10 -> 0 | J10: =ROUNDDOWN(F10+I10,0) -> 0
B11: 令和9年2月 | C11: 127 | E11: 100 | F11: =C11*D11*(1.85-E11/100) -> 0 | G11: 2222 | I11: =G11*H11 -> 0 | J11: =ROUNDDOWN(F11+I11,0) -> 0
B12: 令和9年3月 | C12: 127 | E12: 100 | F12: =C12*D12*(1.85-E12/100) -> 0 | G12: 2825 | I12: =G12*H12 -> 0 | J12: =ROUNDDOWN(F12+I12,0) -> 0
B13: 令和9年4月 | C13: 127 | E13: 100 | F13: =C13*D13*(1.85-E13/100) -> 0 | G13: 2720 | I13: =G13*H13 -> 0 | J13: =ROUNDDOWN(F13+I13,0) -> 0
B14: 令和9年5月 | C14: 127 | E14: 100 | F14: =C14*D14*(1.85-E14/100) -> 0 | G14: 2986 | I14: =G14*H14 -> 0 | J14: =ROUNDDOWN(F14+I14,0) -> 0
B15: 令和9年6月 | C15: 127 | E15: 100 | F15: =C15*D15*(1.85-E15/100) -> 0 | G15: 2853 | I15: =G15*H15 -> 0 | J15: =ROUNDDOWN(F15+I15,0) -> 0
B16: 令和9年7月 | C16: 127 | E16: 100 | F16: =C16*D16*(1.85-E16/100) -> 0 | G16: 2556 | I16: =G16*H16 -> 0 | J16: =ROUNDDOWN(F16+I16,0) -> 0
B17: 令和9年8月 | C17: 127 | E17: 100 | F17: =C17*D17*(1.85-E17/100) -> 0 | G17: 2644 | I17: =G17*H17 -> 0 | J17: =ROUNDDOWN(F17+I17,0) -> 0
B18: 令和9年9月 | C18: 127 | E18: 100 | F18: =C18*D18*(1.85-E18/100) -> 0 | G18: 2663 | I18: =G18*H18 -> 0 | J18: =ROUNDDOWN(F18+I18,0) -> 0
B19: 令和9年10月 | C19: 127 | E19: 100 | F19: =C19*D19*(1.85-E19/100) -> 0 | G19: 2402 | I19: =G19*H19 -> 0 | J19: =ROUNDDOWN(F19+I19,0) -> 0
B20: 令和9年11月 | C20: 127 | E20: 100 | F20: =C20*D20*(1.85-E20/100) -> 0 | G20: 2201 | I20: =G20*H20 -> 0 | J20: =ROUNDDOWN(F20+I20,0) -> 0
B21: 令和9年12月 | C21: 127 | E21: 100 | F21: =C21*D21*(1.85-E21/100) -> 0 | G21: 2590 | I21: =G21*H21 -> 0 | J21: =ROUNDDOWN(F21+I21,0) -> 0
B22: 令和9年の計 （A） | J22: =SUM(J10:J21) -> 0

Sheet 積算内訳（15中馬場排水機場）
B3: 施設名： | C3: 15 | D3: 中馬場排水機場
C5: 常時電力基本料金 | G5: 電力量料金 | J5: 総計 （円）
A6: 2
C7: 契約電力 （kＷ) | D7: 単価 （円/kＷ) | E7: 力率 （％） | F7: 合計 （円） | G7: 予定使用電力量 （kＷh） | H7: 単価 （円/kＷh) | I7: 合計 （円）
C9: a | D9: ｂ | E9: c | F9: d（=a×b×（1.85－c/100）） | G9: e | H9: f | I9: g(=e×f） | J9: j＝d＋g
B10: 令和9年1月 | C10: 97 | E10: 100 | F10: =C10*D10*(1.85-E10/100) -> 0 | G10: 2145 | I10: =G10*H10 -> 0 | J10: =ROUNDDOWN(F10+I10,0) -> 0
B11: 令和9年2月 | C11: 97 | E11: 100 | F11: =C11*D11*(1.85-E11/100) -> 0 | G11: 1684 | I11: =G11*H11 -> 0 | J11: =ROUNDDOWN(F11+I11,0) -> 0
B12: 令和9年3月 | C12: 97 | E12: 100 | F12: =C12*D12*(1.85-E12/100) -> 0 | G12: 3040 | I12: =G12*H12 -> 0 | J12: =ROUNDDOWN(F12+I12,0) -> 0
B13: 令和9年4月 | C13: 97 | E13: 100 | F13: =C13*D13*(1.85-E13/100) -> 0 | G13: 2950 | I13: =G13*H13 -> 0 | J13: =ROUNDDOWN(F13+I13,0) -> 0
B14: 令和9年5月 | C14: 97 | E14: 100 | F14: =C14*D14*(1.85-E14/100) -> 0 | G14: 3456 | I14: =G14*H14 -> 0 | J14: =ROUNDDOWN(F14+I14,0) -> 0
B15: 令和9年6月 | C15: 97 | E15: 100 | F15: =C15*D15*(1.85-E15/100) -> 0 | G15: 2828 | I15: =G15*H15 -> 0 | J15: =ROUNDDOWN(F15+I15,0) -> 0
B16: 令和9年7月 | C16: 97 | E16: 100 | F16: =C16*D16*(1.85-E16/100) -> 0 | G16: 2003 | I16: =G16*H16 -> 0 | J16: =ROUNDDOWN(F16+I16,0) -> 0
B17: 令和9年8月 | C17: 97 | E17: 100 | F17: =C17*D17*(1.85-E17/100) -> 0 | G17: 1773 | I17: =G17*H17 -> 0 | J17: =ROUNDDOWN(F17+I17,0) -> 0
B18: 令和9年9月 | C18: 97 | E18: 100 | F18: =C18*D18*(1.85-E18/100) -> 0 | G18: 2636 | I18: =G18*H18 -> 0 | J18: =ROUNDDOWN(F18+I18,0) -> 0
B19: 令和9年10月 | C19: 97 | E19: 100 | F19: =C19*D19*(1.85-E19/100) -> 0 | G19: 2229 | I19: =G19*H19 -> 0 | J19: =ROUNDDOWN(F19+I19,0) -> 0
B20: 令和9年11月 | C20: 97 | E20: 100 | F20: =C20*D20*(1.85-E20/100) -> 0 | G20: 1957 | I20: =G20*H20 -> 0 | J20: =ROUNDDOWN(F20+I20,0) -> 0
B21: 令和9年12月 | C21: 97 | E21: 100 | F21: =C21*D21*(1.85-E21/100) -> 0 | G21: 2084 | I21: =G21*H21 -> 0 | J21: =ROUNDDOWN(F21+I21,0) -> 0
B22: 令和9年の計 （A） | J22: =SUM(J10:J21) -> 0

Sheet 積算内訳（16古新田排水機場）
B3: 施設名： | C3: 16 | D3: 古新田排水機場
C5: 常時電力基本料金 | G5: 電力量料金 | J5: 総計 （円）
A6: 2
C7: 契約電力 （kＷ) | D7: 単価 （円/kＷ) | E7: 力率 （％） | F7: 合計 （円） | G7: 予定使用電力量 （kＷh） | H7: 単価 （円/kＷh) | I7: 合計 （円）
C9: a | D9: ｂ | E9: c | F9: d（=a×b×（1.85－c/100）） | G9: e | H9: f | I9: g(=e×f） | J9: j＝d＋g
B10: 令和9年1月 | C10: 65 | E10: 100 | F10: =C10*D10*(1.85-E10/100) -> 0 | G10: 3027 | I10: =G10*H10 -> 0 | J10: =ROUNDDOWN(F10+I10,0) -> 0
B11: 令和9年2月 | C11: 65 | E11: 100 | F11: =C11*D11*(1.85-E11/100) -> 0 | G11: 2286 | I11: =G11*H11 -> 0 | J11: =ROUNDDOWN(F11+I11,0) -> 0
B12: 令和9年3月 | C12: 65 | E12: 100 | F12: =C12*D12*(1.85-E12/100) -> 0 | G12: 3772 | I12: =G12*H12 -> 0 | J12: =ROUNDDOWN(F12+I12,0) -> 0
B13: 令和9年4月 | C13: 65 | E13: 100 | F13: =C13*D13*(1.85-E13/100) -> 0 | G13: 4852 | I13: =G13*H13 -> 0 | J13: =ROUNDDOWN(F13+I13,0) -> 0
B14: 令和9年5月 | C14: 65 | E14: 100 | F14: =C14*D14*(1.85-E14/100) -> 0 | G14: 5375 | I14: =G14*H14 -> 0 | J14: =ROUNDDOWN(F14+I14,0) -> 0
B15: 令和9年6月 | C15: 65 | E15: 100 | F15: =C15*D15*(1.85-E15/100) -> 0 | G15: 4946 | I15: =G15*H15 -> 0 | J15: =ROUNDDOWN(F15+I15,0) -> 0
B16: 令和9年7月 | C16: 65 | E16: 100 | F16: =C16*D16*(1.85-E16/100) -> 0 | G16: 4868 | I16: =G16*H16 -> 0 | J16: =ROUNDDOWN(F16+I16,0) -> 0
B17: 令和9年8月 | C17: 65 | E17: 100 | F17: =C17*D17*(1.85-E17/100) -> 0 | G17: 5413 | I17: =G17*H17 -> 0 | J17: =ROUNDDOWN(F17+I17,0) -> 0
B18: 令和9年9月 | C18: 65 | E18: 100 | F18: =C18*D18*(1.85-E18/100) -> 0 | G18: 4693 | I18: =G18*H18 -> 0 | J18: =ROUNDDOWN(F18+I18,0) -> 0
B19: 令和9年10月 | C19: 65 | E19: 100 | F19: =C19*D19*(1.85-E19/100) -> 0 | G19: 4421 | I19: =G19*H19 -> 0 | J19: =ROUNDDOWN(F19+I19,0) -> 0
B20: 令和9年11月 | C20: 65 | E20: 100 | F20: =C20*D20*(1.85-E20/100) -> 0 | G20: 4385 | I20: =G20*H20 -> 0 | J20: =ROUNDDOWN(F20+I20,0) -> 0
B21: 令和9年12月 | C21: 65 | E21: 100 | F21: =C21*D21*(1.85-E21/100) -> 0 | G21: 5058 | I21: =G21*H21 -> 0 | J21: =ROUNDDOWN(F21+I21,0) -> 0
B22: 令和9年の計 （A） | J22: =SUM(J10:J21) -> 0

Sheet 積算内訳（17八條小学校） 
B3: 施設名： | C3: 17 | D3: 八條小学校
C5: 常時電力基本料金 | G5: 電力量料金 | J5: 総計 （円）
A6: 2
C7: 契約電力 （kＷ) | D7: 単価 （円/kＷ) | E7: 力率 （％） | F7: 合計 （円） | G7: 予定使用電力量 （kＷh） | H7: 単価 （円/kＷh) | I7: 合計 （円）
C9: a | D9: ｂ | E9: c | F9: d（=a×b×（1.85－c/100）） | G9: e | H9: f | I9: g(=e×f） | J9: j＝d＋g
B10: 令和9年1月 | C10: 172 | E10: 100 | F10: =C10*D10*(1.85-E10/100) -> 0 | G10: 14212 | I10: =G10*H10 -> 0 | J10: =ROUNDDOWN(F10+I10,0) -> 0
B11: 令和9年2月 | C11: 172 | E11: 100 | F11: =C11*D11*(1.85-E11/100) -> 0 | G11: 15652 | I11: =G11*H11 -> 0 | J11: =ROUNDDOWN(F11+I11,0) -> 0
B12: 令和9年3月 | C12: 172 | E12: 100 | F12: =C12*D12*(1.85-E12/100) -> 0 | G12: 12282 | I12: =G12*H12 -> 0 | J12: =ROUNDDOWN(F12+I12,0) -> 0
B13: 令和9年4月 | C13: 172 | E13: 100 | F13: =C13*D13*(1.85-E13/100) -> 0 | G13: 7788 | I13: =G13*H13 -> 0 | J13: =ROUNDDOWN(F13+I13,0) -> 0
B14: 令和9年5月 | C14: 172 | E14: 100 | F14: =C14*D14*(1.85-E14/100) -> 0 | G14: 9002 | I14: =G14*H14 -> 0 | J14: =ROUNDDOWN(F14+I14,0) -> 0
B15: 令和9年6月 | C15: 172 | E15: 100 | F15: =C15*D15*(1.85-E15/100) -> 0 | G15: 17462 | I15: =G15*H15 -> 0 | J15: =ROUNDDOWN(F15+I15,0) -> 0
B16: 令和9年7月 | C16: 172 | E16: 100 | F16: =C16*D16*(1.85-E16/100) -> 0 | G16: 16169 | I16: =G16*H16 -> 0 | J16: =ROUNDDOWN(F16+I16,0) -> 0
B17: 令和9年8月 | C17: 172 | E17: 100 | F17: =C17*D17*(1.85-E17/100) -> 0 | G17: 10608 | I17: =G17*H17 -> 0 | J17: =ROUNDDOWN(F17+I17,0) -> 0
B18: 令和9年9月 | C18: 172 | E18: 100 | F18: =C18*D18*(1.85-E18/100) -> 0 | G18: 16689 | I18: =G18*H18 -> 0 | J18: =ROUNDDOWN(F18+I18,0) -> 0
B19: 令和9年10月 | C19: 172 | E19: 100 | F19: =C19*D19*(1.85-E19/100) -> 0 | G19: 8544 | I19: =G19*H19 -> 0 | J19: =ROUNDDOWN(F19+I19,0) -> 0
B20: 令和9年11月 | C20: 172 | E20: 100 | F20: =C20*D20*(1.85-E20/100) -> 0 | G20: 9701 | I20: =G20*H20 -> 0 | J20: =ROUNDDOWN(F20+I20,0) -> 0
B21: 令和9年12月 | C21: 172 | E21: 100 | F21: =C21*D21*(1.85-E21/100) -> 0 | G21: 13769 | I21: =G21*H21 -> 0 | J21: =ROUNDDOWN(F21+I21,0) -> 0
B22: 令和9年の計 （A） | J22: =SUM(J10:J21) -> 0

Sheet 積算内訳（18潮止小学校）
B3: 施設名： | C3: 18 | D3: 潮止小学校
C5: 常時電力基本料金 | G5: 電力量料金 | J5: 総計 （円）
A6: 2
C7: 契約電力 （kＷ) | D7: 単価 （円/kＷ) | E7: 力率 （％） | F7: 合計 （円） | G7: 予定使用電力量 （kＷh） | H7: 単価 （円/kＷh) | I7: 合計 （円）
C9: a | D9: ｂ | E9: c | F9: d（=a×b×（1.85－c/100）） | G9: e | H9: f | I9: g(=e×f） | J9: j＝d＋g
B10: 令和9年1月 | C10: 336 | E10: 100 | F10: =C10*D10*(1.85-E10/100) -> 0 | G10: 26503 | I10: =G10*H10 -> 0 | J10: =ROUNDDOWN(F10+I10,0) -> 0
B11: 令和9年2月 | C11: 336 | E11: 100 | F11: =C11*D11*(1.85-E11/100) -> 0 | G11: 26509 | I11: =G11*H11 -> 0 | J11: =ROUNDDOWN(F11+I11,0) -> 0
B12: 令和9年3月 | C12: 336 | E12: 100 | F12: =C12*D12*(1.85-E12/100) -> 0 | G12: 18316 | I12: =G12*H12 -> 0 | J12: =ROUNDDOWN(F12+I12,0) -> 0
B13: 令和9年4月 | C13: 336 | E13: 100 | F13: =C13*D13*(1.85-E13/100) -> 0 | G13: 12769 | I13: =G13*H13 -> 0 | J13: =ROUNDDOWN(F13+I13,0) -> 0
B14: 令和9年5月 | C14: 336 | E14: 100 | F14: =C14*D14*(1.85-E14/100) -> 0 | G14: 16813 | I14: =G14*H14 -> 0 | J14: =ROUNDDOWN(F14+I14,0) -> 0
B15: 令和9年6月 | C15: 336 | E15: 100 | F15: =C15*D15*(1.85-E15/100) -> 0 | G15: 34369 | I15: =G15*H15 -> 0 | J15: =ROUNDDOWN(F15+I15,0) -> 0
B16: 令和9年7月 | C16: 336 | E16: 100 | F16: =C16*D16*(1.85-E16/100) -> 0 | G16: 33540 | I16: =G16*H16 -> 0 | J16: =ROUNDDOWN(F16+I16,0) -> 0
B17: 令和9年8月 | C17: 336 | E17: 100 | F17: =C17*D17*(1.85-E17/100) -> 0 | G17: 20923 | I17: =G17*H17 -> 0 | J17: =ROUNDDOWN(F17+I17,0) -> 0
B18: 令和9年9月 | C18: 336 | E18: 100 | F18: =C18*D18*(1.85-E18/100) -> 0 | G18: 40549 | I18: =G18*H18 -> 0 | J18: =ROUNDDOWN(F18+I18,0) -> 0
B19: 令和9年10月 | C19: 336 | E19: 100 | F19: =C19*D19*(1.85-E19/100) -> 0 | G19: 16815 | I19: =G19*H19 -> 0 | J19: =ROUNDDOWN(F19+I19,0) -> 0
B20: 令和9年11月 | C20: 336 | E20: 100 | F20: =C20*D20*(1.85-E20/100) -> 0 | G20: 15724 | I20: =G20*H20 -> 0 | J20: =ROUNDDOWN(F20+I20,0) -> 0
B21: 令和9年12月 | C21: 336 | E21: 100 | F21: =C21*D21*(1.85-E21/100) -> 0 | G21: 23369 | I21: =G21*H21 -> 0 | J21: =ROUNDDOWN(F21+I21,0) -> 0
B22: 令和9年の計 （A） | J22: =SUM(J10:J21) -> 0

Sheet 積算内訳（19八幡小学校）
B3: 施設名： | C3: 19 | D3: 八幡小学校
C5: 常時電力基本料金 | G5: 電力量料金 | J5: 総計 （円）
A6: 2
C7: 契約電力 （kＷ) | D7: 単価 （円/kＷ) | E7: 力率 （％） | F7: 合計 （円） | G7: 予定使用電力量 （kＷh） | H7: 単価 （円/kＷh) | I7: 合計 （円）
C9: a | D9: ｂ | E9: c | F9: d（=a×b×（1.85－c/100）） | G9: e | H9: f | I9: g(=e×f） | J9: j＝d＋g
B10: 令和9年1月 | C10: 262 | E10: 100 | F10: =C10*D10*(1.85-E10/100) -> 0 | G10: 14048 | I10: =G10*H10 -> 0 | J10: =ROUNDDOWN(F10+I10,0) -> 0
B11: 令和9年2月 | C11: 262 | E11: 100 | F11: =C11*D11*(1.85-E11/100) -> 0 | G11: 16142 | I11: =G11*H11 -> 0 | J11: =ROUNDDOWN(F11+I11,0) -> 0
B12: 令和9年3月 | C12: 262 | E12: 100 | F12: =C12*D12*(1.85-E12/100) -> 0 | G12: 12662 | I12: =G12*H12 -> 0 | J12: =ROUNDDOWN(F12+I12,0) -> 0
B13: 令和9年4月 | C13: 262 | E13: 100 | F13: =C13*D13*(1.85-E13/100) -> 0 | G13: 9110 | I13: =G13*H13 -> 0 | J13: =ROUNDDOWN(F13+I13,0) -> 0
B14: 令和9年5月 | C14: 262 | E14: 100 | F14: =C14*D14*(1.85-E14/100) -> 0 | G14: 10616 | I14: =G14*H14 -> 0 | J14: =ROUNDDOWN(F14+I14,0) -> 0
B15: 令和9年6月 | C15: 262 | E15: 100 | F15: =C15*D15*(1.85-E15/100) -> 0 | G15: 23554 | I15: =G15*H15 -> 0 | J15: =ROUNDDOWN(F15+I15,0) -> 0
B16: 令和9年7月 | C16: 262 | E16: 100 | F16: =C16*D16*(1.85-E16/100) -> 0 | G16: 25939 | I16: =G16*H16 -> 0 | J16: =ROUNDDOWN(F16+I16,0) -> 0
B17: 令和9年8月 | C17: 262 | E17: 100 | F17: =C17*D17*(1.85-E17/100) -> 0 | G17: 15761 | I17: =G17*H17 -> 0 | J17: =ROUNDDOWN(F17+I17,0) -> 0
B18: 令和9年9月 | C18: 262 | E18: 100 | F18: =C18*D18*(1.85-E18/100) -> 0 | G18: 28106 | I18: =G18*H18 -> 0 | J18: =ROUNDDOWN(F18+I18,0) -> 0
B19: 令和9年10月 | C19: 262 | E19: 100 | F19: =C19*D19*(1.85-E19/100) -> 0 | G19: 11283 | I19: =G19*H19 -> 0 | J19: =ROUNDDOWN(F19+I19,0) -> 0
B20: 令和9年11月 | C20: 262 | E20: 100 | F20: =C20*D20*(1.85-E20/100) -> 0 | G20: 9672 | I20: =G20*H20 -> 0 | J20: =ROUNDDOWN(F20+I20,0) -> 0
B21: 令和9年12月 | C21: 262 | E21: 100 | F21: =C21*D21*(1.85-E21/100) -> 0 | G21: 14110 | I21: =G21*H21 -> 0 | J21: =ROUNDDOWN(F21+I21,0) -> 0
B22: 令和9年の計 （A） | J22: =SUM(J10:J21) -> 0

Sheet 積算内訳（20大曽根小学校）
B3: 施設名： | C3: 20 | D3: 大曽根小学校
C5: 常時電力基本料金 | G5: 電力量料金 | J5: 総計 （円）
A6: 2
C7: 契約電力 （kＷ) | D7: 単価 （円/kＷ) | E7: 力率 （％） | F7: 合計 （円） | G7: 予定使用電力量 （kＷh） | H7: 単価 （円/kＷh) | I7: 合計 （円）
C9: a | D9: ｂ | E9: c | F9: d（=a×b×（1.85－c/100）） | G9: e | H9: f | I9: g(=e×f） | J9: j＝d＋g
B10: 令和9年1月 | C10: =[1]需要場所等一覧!$D$22 -> 257 | E10: 100 | F10: =C10*D10*(1.85-E10/100) -> 0 | G10: 21778 | I10: =G10*H10 -> 0 | J10: =ROUNDDOWN(F10+I10,0) -> 0
B11: 令和9年2月 | C11: =[1]需要場所等一覧!$D$22 -> 257 | E11: 100 | F11: =C11*D11*(1.85-E11/100) -> 0 | G11: 24568 | I11: =G11*H11 -> 0 | J11: =ROUNDDOWN(F11+I11,0) -> 0
B12: 令和9年3月 | C12: =[1]需要場所等一覧!$D$22 -> 257 | E12: 100 | F12: =C12*D12*(1.85-E12/100) -> 0 | G12: 18074 | I12: =G12*H12 -> 0 | J12: =ROUNDDOWN(F12+I12,0) -> 0
B13: 令和9年4月 | C13: =[1]需要場所等一覧!$D$22 -> 257 | E13: 100 | F13: =C13*D13*(1.85-E13/100) -> 0 | G13: 7825 | I13: =G13*H13 -> 0 | J13: =ROUNDDOWN(F13+I13,0) -> 0
B14: 令和9年5月 | C14: =[1]需要場所等一覧!$D$22 -> 257 | E14: 100 | F14: =C14*D14*(1.85-E14/100) -> 0 | G14: 9208 | I14: =G14*H14 -> 0 | J14: =ROUNDDOWN(F14+I14,0) -> 0
B15: 令和9年6月 | C15: =[1]需要場所等一覧!$D$22 -> 257 | E15: 100 | F15: =C15*D15*(1.85-E15/100) -> 0 | G15: 27389 | I15: =G15*H15 -> 0 | J15: =ROUNDDOWN(F15+I15,0) -> 0
B16: 令和9年7月 | C16: =[1]需要場所等一覧!$D$22 -> 257 | E16: 100 | F16: =C16*D16*(1.85-E16/100) -> 0 | G16: 29369 | I16: =G16*H16 -> 0 | J16: =ROUNDDOWN(F16+I16,0) -> 0
B17: 令和9年8月 | C17: =[1]需要場所等一覧!$D$22 -> 257 | E17: 100 | F17: =C17*D17*(1.85-E17/100) -> 0 | G17: 22826 | I17: =G17*H17 -> 0 | J17: =ROUNDDOWN(F17+I17,0) -> 0
B18: 令和9年9月 | C18: =[1]需要場所等一覧!$D$22 -> 257 | E18: 100 | F18: =C18*D18*(1.85-E18/100) -> 0 | G18: 31021 | I18: =G18*H18 -> 0 | J18: =ROUNDDOWN(F18+I18,0) -> 0
B19: 令和9年10月 | C19: =[1]需要場所等一覧!$D$22 -> 257 | E19: 100 | F19: =C19*D19*(1.85-E19/100) -> 0 | G19: 11607 | I19: =G19*H19 -> 0 | J19: =ROUNDDOWN(F19+I19,0) -> 0
B20: 令和9年11月 | C20: =[1]需要場所等一覧!$D$22 -> 257 | E20: 100 | F20: =C20*D20*(1.85-E20/100) -> 0 | G20: 12632 | I20: =G20*H20 -> 0 | J20: =ROUNDDOWN(F20+I20,0) -> 0
B21: 令和9年12月 | C21: =[1]需要場所等一覧!$D$22 -> 257 | E21: 100 | F21: =C21*D21*(1.85-E21/100) -> 0 | G21: 19826 | I21: =G21*H21 -> 0 | J21: =ROUNDDOWN(F21+I21,0) -> 0
B22: 令和9年の計 （A） | J22: =SUM(J10:J21) -> 0

Sheet 積算内訳（21松之木小学校）
B3: 施設名： | C3: 21 | D3: 松之木小学校
C5: 常時電力基本料金 | G5: 電力量料金 | J5: 総計 （円）
A6: 2
C7: 契約電力 （kＷ) | D7: 単価 （円/kＷ) | E7: 力率 （％） | F7: 合計 （円） | G7: 予定使用電力量 （kＷh） | H7: 単価 （円/kＷh) | I7: 合計 （円）
C9: a | D9: ｂ | E9: c | F9: d（=a×b×（1.85－c/100）） | G9: e | H9: f | I9: g(=e×f） | J9: j＝d＋g
B10: 令和9年1月 | C10: 244 | E10: 100 | F10: =C10*D10*(1.85-E10/100) -> 0 | G10: 16197 | I10: =G10*H10 -> 0 | J10: =ROUNDDOWN(F10+I10,0) -> 0
B11: 令和9年2月 | C11: 244 | E11: 100 | F11: =C11*D11*(1.85-E11/100) -> 0 | G11: 17141 | I11: =G11*H11 -> 0 | J11: =ROUNDDOWN(F11+I11,0) -> 0
B12: 令和9年3月 | C12: 244 | E12: 100 | F12: =C12*D12*(1.85-E12/100) -> 0 | G12: 12040 | I12: =G12*H12 -> 0 | J12: =ROUNDDOWN(F12+I12,0) -> 0
B13: 令和9年4月 | C13: 244 | E13: 100 | F13: =C13*D13*(1.85-E13/100) -> 0 | G13: 8987 | I13: =G13*H13 -> 0 | J13: =ROUNDDOWN(F13+I13,0) -> 0
B14: 令和9年5月 | C14: 244 | E14: 100 | F14: =C14*D14*(1.85-E14/100) -> 0 | G14: 12251 | I14: =G14*H14 -> 0 | J14: =ROUNDDOWN(F14+I14,0) -> 0
B15: 令和9年6月 | C15: 244 | E15: 100 | F15: =C15*D15*(1.85-E15/100) -> 0 | G15: 26158 | I15: =G15*H15 -> 0 | J15: =ROUNDDOWN(F15+I15,0) -> 0
B16: 令和9年7月 | C16: 244 | E16: 100 | F16: =C16*D16*(1.85-E16/100) -> 0 | G16: 25423 | I16: =G16*H16 -> 0 | J16: =ROUNDDOWN(F16+I16,0) -> 0
B17: 令和9年8月 | C17: 244 | E17: 100 | F17: =C17*D17*(1.85-E17/100) -> 0 | G17: 17159 | I17: =G17*H17 -> 0 | J17: =ROUNDDOWN(F17+I17,0) -> 0
B18: 令和9年9月 | C18: 244 | E18: 100 | F18: =C18*D18*(1.85-E18/100) -> 0 | G18: 33019 | I18: =G18*H18 -> 0 | J18: =ROUNDDOWN(F18+I18,0) -> 0
B19: 令和9年10月 | C19: 244 | E19: 100 | F19: =C19*D19*(1.85-E19/100) -> 0 | G19: 12779 | I19: =G19*H19 -> 0 | J19: =ROUNDDOWN(F19+I19,0) -> 0
B20: 令和9年11月 | C20: 244 | E20: 100 | F20: =C20*D20*(1.85-E20/100) -> 0 | G20: 10521 | I20: =G20*H20 -> 0 | J20: =ROUNDDOWN(F20+I20,0) -> 0
B21: 令和9年12月 | C21: 244 | E21: 100 | F21: =C21*D21*(1.85-E21/100) -> 0 | G21: 14123 | I21: =G21*H21 -> 0 | J21: =ROUNDDOWN(F21+I21,0) -> 0
B22: 令和9年の計 （A） | J22: =SUM(J10:J21) -> 0

Sheet 積算内訳（22中川小学校）
B3: 施設名： | C3: 22 | D3: 中川小学校
C5: 常時電力基本料金 | G5: 電力量料金 | J5: 総計 （円）
A6: 2
C7: 契約電力 （kＷ) | D7: 単価 （円/kＷ) | E7: 力率 （％） | F7: 合計 （円） | G7: 予定使用電力量 （kＷh） | H7: 単価 （円/kＷh) | I7: 合計 （円）
C9: a | D9: ｂ | E9: c | F9: d（=a×b×（1.85－c/100）） | G9: e | H9: f | I9: g(=e×f） | J9: j＝d＋g
B10: 令和9年1月 | C10: 159 | E10: 100 | F10: =C10*D10*(1.85-E10/100) -> 0 | G10: 21040 | I10: =G10*H10 -> 0 | J10: =ROUNDDOWN(F10+I10,0) -> 0
B11: 令和9年2月 | C11: 159 | E11: 100 | F11: =C11*D11*(1.85-E11/100) -> 0 | G11: 21279 | I11: =G11*H11 -> 0 | J11: =ROUNDDOWN(F11+I11,0) -> 0
B12: 令和9年3月 | C12: 159 | E12: 100 | F12: =C12*D12*(1.85-E12/100) -> 0 | G12: 15539 | I12: =G12*H12 -> 0 | J12: =ROUNDDOWN(F12+I12,0) -> 0
B13: 令和9年4月 | C13: 159 | E13: 100 | F13: =C13*D13*(1.85-E13/100) -> 0 | G13: 9888 | I13: =G13*H13 -> 0 | J13: =ROUNDDOWN(F13+I13,0) -> 0
B14: 令和9年5月 | C14: 159 | E14: 100 | F14: =C14*D14*(1.85-E14/100) -> 0 | G14: 11555 | I14: =G14*H14 -> 0 | J14: =ROUNDDOWN(F14+I14,0) -> 0
B15: 令和9年6月 | C15: 159 | E15: 100 | F15: =C15*D15*(1.85-E15/100) -> 0 | G15: 22490 | I15: =G15*H15 -> 0 | J15: =ROUNDDOWN(F15+I15,0) -> 0
B16: 令和9年7月 | C16: 159 | E16: 100 | F16: =C16*D16*(1.85-E16/100) -> 0 | G16: 22365 | I16: =G16*H16 -> 0 | J16: =ROUNDDOWN(F16+I16,0) -> 0
B17: 令和9年8月 | C17: 159 | E17: 100 | F17: =C17*D17*(1.85-E17/100) -> 0 | G17: 14103 | I17: =G17*H17 -> 0 | J17: =ROUNDDOWN(F17+I17,0) -> 0
B18: 令和9年9月 | C18: 159 | E18: 100 | F18: =C18*D18*(1.85-E18/100) -> 0 | G18: 22915 | I18: =G18*H18 -> 0 | J18: =ROUNDDOWN(F18+I18,0) -> 0
B19: 令和9年10月 | C19: 159 | E19: 100 | F19: =C19*D19*(1.85-E19/100) -> 0 | G19: 11342 | I19: =G19*H19 -> 0 | J19: =ROUNDDOWN(F19+I19,0) -> 0
B20: 令和9年11月 | C20: 159 | E20: 100 | F20: =C20*D20*(1.85-E20/100) -> 0 | G20: 11777 | I20: =G20*H20 -> 0 | J20: =ROUNDDOWN(F20+I20,0) -> 0
B21: 令和9年12月 | C21: 159 | E21: 100 | F21: =C21*D21*(1.85-E21/100) -> 0 | G21: 16321 | I21: =G21*H21 -> 0 | J21: =ROUNDDOWN(F21+I21,0) -> 0
B22: 令和9年の計 （A） | J22: =SUM(J10:J21) -> 0

Sheet 積算内訳（23八條北小学校）
B3: 施設名： | C3: 23 | D3: 八條北小学校
C5: 常時電力基本料金 | G5: 電力量料金 | J5: 総計 （円）
A6: 2
C7: 契約電力 （kＷ) | D7: 単価 （円/kＷ) | E7: 力率 （％） | F7: 合計 （円） | G7: 予定使用電力量 （kＷh） | H7: 単価 （円/kＷh) | I7: 合計 （円）
C9: a | D9: ｂ | E9: c | F9: d（=a×b×（1.85－c/100）） | G9: e | H9: f | I9: g(=e×f） | J9: j＝d＋g
B10: 令和9年1月 | C10: 165 | E10: 100 | F10: =C10*D10*(1.85-E10/100) -> 0 | G10: 14022 | I10: =G10*H10 -> 0 | J10: =ROUNDDOWN(F10+I10,0) -> 0
B11: 令和9年2月 | C11: 165 | E11: 100 | F11: =C11*D11*(1.85-E11/100) -> 0 | G11: 14110 | I11: =G11*H11 -> 0 | J11: =ROUNDDOWN(F11+I11,0) -> 0
B12: 令和9年3月 | C12: 165 | E12: 100 | F12: =C12*D12*(1.85-E12/100) -> 0 | G12: 11706 | I12: =G12*H12 -> 0 | J12: =ROUNDDOWN(F12+I12,0) -> 0
B13: 令和9年4月 | C13: 165 | E13: 100 | F13: =C13*D13*(1.85-E13/100) -> 0 | G13: 6689 | I13: =G13*H13 -> 0 | J13: =ROUNDDOWN(F13+I13,0) -> 0
B14: 令和9年5月 | C14: 165 | E14: 100 | F14: =C14*D14*(1.85-E14/100) -> 0 | G14: 6367 | I14: =G14*H14 -> 0 | J14: =ROUNDDOWN(F14+I14,0) -> 0
B15: 令和9年6月 | C15: 165 | E15: 100 | F15: =C15*D15*(1.85-E15/100) -> 0 | G15: 13076 | I15: =G15*H15 -> 0 | J15: =ROUNDDOWN(F15+I15,0) -> 0
B16: 令和9年7月 | C16: 165 | E16: 100 | F16: =C16*D16*(1.85-E16/100) -> 0 | G16: 16277 | I16: =G16*H16 -> 0 | J16: =ROUNDDOWN(F16+I16,0) -> 0
B17: 令和9年8月 | C17: 165 | E17: 100 | F17: =C17*D17*(1.85-E17/100) -> 0 | G17: 10341 | I17: =G17*H17 -> 0 | J17: =ROUNDDOWN(F17+I17,0) -> 0
B18: 令和9年9月 | C18: 165 | E18: 100 | F18: =C18*D18*(1.85-E18/100) -> 0 | G18: 14412 | I18: =G18*H18 -> 0 | J18: =ROUNDDOWN(F18+I18,0) -> 0
B19: 令和9年10月 | C19: 165 | E19: 100 | F19: =C19*D19*(1.85-E19/100) -> 0 | G19: 7519 | I19: =G19*H19 -> 0 | J19: =ROUNDDOWN(F19+I19,0) -> 0
B20: 令和9年11月 | C20: 165 | E20: 100 | F20: =C20*D20*(1.85-E20/100) -> 0 | G20: 8819 | I20: =G20*H20 -> 0 | J20: =ROUNDDOWN(F20+I20,0) -> 0
B21: 令和9年12月 | C21: 165 | E21: 100 | F21: =C21*D21*(1.85-E21/100) -> 0 | G21: 12119 | I21: =G21*H21 -> 0 | J21: =ROUNDDOWN(F21+I21,0) -> 0
B22: 令和9年の計 （A） | J22: =SUM(J10:J21) -> 0

Sheet 積算内訳（24大瀬小学校）
B3: 施設名： | C3: 24 | D3: 大瀬小学校
C5: 常時電力基本料金 | G5: 電力量料金 | J5: 総計 （円）
A6: 2
C7: 契約電力 （kＷ) | D7: 単価 （円/kＷ) | E7: 力率 （％） | F7: 合計 （円） | G7: 予定使用電力量 （kＷh） | H7: 単価 （円/kＷh) | I7: 合計 （円）
C9: a | D9: ｂ | E9: c | F9: d（=a×b×（1.85－c/100）） | G9: e | H9: f | I9: g(=e×f） | J9: j＝d＋g
B10: 令和9年1月 | C10: 381 | E10: 100 | F10: =C10*D10*(1.85-E10/100) -> 0 | G10: 22530 | I10: =G10*H10 -> 0 | J10: =ROUNDDOWN(F10+I10,0) -> 0
B11: 令和9年2月 | C11: 381 | E11: 100 | F11: =C11*D11*(1.85-E11/100) -> 0 | G11: 24049 | I11: =G11*H11 -> 0 | J11: =ROUNDDOWN(F11+I11,0) -> 0
B12: 令和9年3月 | C12: 381 | E12: 100 | F12: =C12*D12*(1.85-E12/100) -> 0 | G12: 19001 | I12: =G12*H12 -> 0 | J12: =ROUNDDOWN(F12+I12,0) -> 0
B13: 令和9年4月 | C13: 381 | E13: 100 | F13: =C13*D13*(1.85-E13/100) -> 0 | G13: 15116 | I13: =G13*H13 -> 0 | J13: =ROUNDDOWN(F13+I13,0) -> 0
B14: 令和9年5月 | C14: 381 | E14: 100 | F14: =C14*D14*(1.85-E14/100) -> 0 | G14: 18820 | I14: =G14*H14 -> 0 | J14: =ROUNDDOWN(F14+I14,0) -> 0
B15: 令和9年6月 | C15: 381 | E15: 100 | F15: =C15*D15*(1.85-E15/100) -> 0 | G15: 37505 | I15: =G15*H15 -> 0 | J15: =ROUNDDOWN(F15+I15,0) -> 0
B16: 令和9年7月 | C16: 381 | E16: 100 | F16: =C16*D16*(1.85-E16/100) -> 0 | G16: 36385 | I16: =G16*H16 -> 0 | J16: =ROUNDDOWN(F16+I16,0) -> 0
B17: 令和9年8月 | C17: 381 | E17: 100 | F17: =C17*D17*(1.85-E17/100) -> 0 | G17: 24211 | I17: =G17*H17 -> 0 | J17: =ROUNDDOWN(F17+I17,0) -> 0
B18: 令和9年9月 | C18: 381 | E18: 100 | F18: =C18*D18*(1.85-E18/100) -> 0 | G18: 44394 | I18: =G18*H18 -> 0 | J18: =ROUNDDOWN(F18+I18,0) -> 0
B19: 令和9年10月 | C19: 381 | E19: 100 | F19: =C19*D19*(1.85-E19/100) -> 0 | G19: 19517 | I19: =G19*H19 -> 0 | J19: =ROUNDDOWN(F19+I19,0) -> 0
B20: 令和9年11月 | C20: 381 | E20: 100 | F20: =C20*D20*(1.85-E20/100) -> 0 | G20: 15903 | I20: =G20*H20 -> 0 | J20: =ROUNDDOWN(F20+I20,0) -> 0
B21: 令和9年12月 | C21: 381 | E21: 100 | F21: =C21*D21*(1.85-E21/100) -> 0 | G21: 21446 | I21: =G21*H21 -> 0 | J21: =ROUNDDOWN(F21+I21,0) -> 0
B22: 令和9年の計 （A） | J22: =SUM(J10:J21) -> 0

Sheet 積算内訳（25大原小学校）
B3: 施設名： | C3: 25 | D3: 大原小学校
C5: 常時電力基本料金 | G5: 電力量料金 | J5: 総計 （円）
A6: 2
C7: 契約電力 （kＷ) | D7: 単価 （円/kＷ) | E7: 力率 （％） | F7: 合計 （円） | G7: 予定使用電力量 （kＷh） | H7: 単価 （円/kＷh) | I7: 合計 （円）
C9: a | D9: ｂ | E9: c | F9: d（=a×b×（1.85－c/100）） | G9: e | H9: f | I9: g(=e×f） | J9: j＝d＋g
B10: 令和9年1月 | C10: 270 | E10: 100 | F10: =C10*D10*(1.85-E10/100) -> 0 | G10: 18850 | I10: =G10*H10 -> 0 | J10: =ROUNDDOWN(F10+I10,0) -> 0
B11: 令和9年2月 | C11: 270 | E11: 100 | F11: =C11*D11*(1.85-E11/100) -> 0 | G11: 19812 | I11: =G11*H11 -> 0 | J11: =ROUNDDOWN(F11+I11,0) -> 0
B12: 令和9年3月 | C12: 270 | E12: 100 | F12: =C12*D12*(1.85-E12/100) -> 0 | G12: 15062 | I12: =G12*H12 -> 0 | J12: =ROUNDDOWN(F12+I12,0) -> 0
B13: 令和9年4月 | C13: 270 | E13: 100 | F13: =C13*D13*(1.85-E13/100) -> 0 | G13: 9784 | I13: =G13*H13 -> 0 | J13: =ROUNDDOWN(F13+I13,0) -> 0
B14: 令和9年5月 | C14: 270 | E14: 100 | F14: =C14*D14*(1.85-E14/100) -> 0 | G14: 12922 | I14: =G14*H14 -> 0 | J14: =ROUNDDOWN(F14+I14,0) -> 0
B15: 令和9年6月 | C15: 270 | E15: 100 | F15: =C15*D15*(1.85-E15/100) -> 0 | G15: 30464 | I15: =G15*H15 -> 0 | J15: =ROUNDDOWN(F15+I15,0) -> 0
B16: 令和9年7月 | C16: 270 | E16: 100 | F16: =C16*D16*(1.85-E16/100) -> 0 | G16: 33692 | I16: =G16*H16 -> 0 | J16: =ROUNDDOWN(F16+I16,0) -> 0
B17: 令和9年8月 | C17: 270 | E17: 100 | F17: =C17*D17*(1.85-E17/100) -> 0 | G17: 21047 | I17: =G17*H17 -> 0 | J17: =ROUNDDOWN(F17+I17,0) -> 0
B18: 令和9年9月 | C18: 270 | E18: 100 | F18: =C18*D18*(1.85-E18/100) -> 0 | G18: 33529 | I18: =G18*H18 -> 0 | J18: =ROUNDDOWN(F18+I18,0) -> 0
B19: 令和9年10月 | C19: 270 | E19: 100 | F19: =C19*D19*(1.85-E19/100) -> 0 | G19: 13654 | I19: =G19*H19 -> 0 | J19: =ROUNDDOWN(F19+I19,0) -> 0
B20: 令和9年11月 | C20: 270 | E20: 100 | F20: =C20*D20*(1.85-E20/100) -> 0 | G20: 10991 | I20: =G20*H20 -> 0 | J20: =ROUNDDOWN(F20+I20,0) -> 0
B21: 令和9年12月 | C21: 270 | E21: 100 | F21: =C21*D21*(1.85-E21/100) -> 0 | G21: 16262 | I21: =G21*H21 -> 0 | J21: =ROUNDDOWN(F21+I21,0) -> 0
B22: 令和9年の計 （A） | J22: =SUM(J10:J21) -> 0

Sheet 積算内訳（26柳之宮小学校）
B3: 施設名： | C3: 26 | D3: 柳之宮小学校
C5: 常時電力基本料金 | G5: 電力量料金 | J5: 総計 （円）
A6: 2
C7: 契約電力 （kＷ) | D7: 単価 （円/kＷ) | E7: 力率 （％） | F7: 合計 （円） | G7: 予定使用電力量 （kＷh） | H7: 単価 （円/kＷh) | I7: 合計 （円）
C9: a | D9: ｂ | E9: c | F9: d（=a×b×（1.85－c/100）） | G9: e | H9: f | I9: g(=e×f） | J9: j＝d＋g
B10: 令和9年1月 | C10: 142 | E10: 100 | F10: =C10*D10*(1.85-E10/100) -> 0 | G10: 8851 | I10: =G10*H10 -> 0 | J10: =ROUNDDOWN(F10+I10,0) -> 0
B11: 令和9年2月 | C11: 142 | E11: 100 | F11: =C11*D11*(1.85-E11/100) -> 0 | G11: 9631 | I11: =G11*H11 -> 0 | J11: =ROUNDDOWN(F11+I11,0) -> 0
B12: 令和9年3月 | C12: 142 | E12: 100 | F12: =C12*D12*(1.85-E12/100) -> 0 | G12: 8460 | I12: =G12*H12 -> 0 | J12: =ROUNDDOWN(F12+I12,0) -> 0
B13: 令和9年4月 | C13: 142 | E13: 100 | F13: =C13*D13*(1.85-E13/100) -> 0 | G13: 5665 | I13: =G13*H13 -> 0 | J13: =ROUNDDOWN(F13+I13,0) -> 0
B14: 令和9年5月 | C14: 142 | E14: 100 | F14: =C14*D14*(1.85-E14/100) -> 0 | G14: 6128 | I14: =G14*H14 -> 0 | J14: =ROUNDDOWN(F14+I14,0) -> 0
B15: 令和9年6月 | C15: 142 | E15: 100 | F15: =C15*D15*(1.85-E15/100) -> 0 | G15: 13207 | I15: =G15*H15 -> 0 | J15: =ROUNDDOWN(F15+I15,0) -> 0
B16: 令和9年7月 | C16: 142 | E16: 100 | F16: =C16*D16*(1.85-E16/100) -> 0 | G16: 15115 | I16: =G16*H16 -> 0 | J16: =ROUNDDOWN(F16+I16,0) -> 0
B17: 令和9年8月 | C17: 142 | E17: 100 | F17: =C17*D17*(1.85-E17/100) -> 0 | G17: 8974 | I17: =G17*H17 -> 0 | J17: =ROUNDDOWN(F17+I17,0) -> 0
B18: 令和9年9月 | C18: 142 | E18: 100 | F18: =C18*D18*(1.85-E18/100) -> 0 | G18: 14774 | I18: =G18*H18 -> 0 | J18: =ROUNDDOWN(F18+I18,0) -> 0
B19: 令和9年10月 | C19: 142 | E19: 100 | F19: =C19*D19*(1.85-E19/100) -> 0 | G19: 7208 | I19: =G19*H19 -> 0 | J19: =ROUNDDOWN(F19+I19,0) -> 0
B20: 令和9年11月 | C20: 142 | E20: 100 | F20: =C20*D20*(1.85-E20/100) -> 0 | G20: 7162 | I20: =G20*H20 -> 0 | J20: =ROUNDDOWN(F20+I20,0) -> 0
B21: 令和9年12月 | C21: 142 | E21: 100 | F21: =C21*D21*(1.85-E21/100) -> 0 | G21: 9114 | I21: =G21*H21 -> 0 | J21: =ROUNDDOWN(F21+I21,0) -> 0
B22: 令和9年の計 （A） | J22: =SUM(J10:J21) -> 0

Sheet 積算内訳（27八潮中学校）
B3: 施設名： | C3: 27 | D3: 八潮中学校
C5: 常時電力基本料金 | G5: 電力量料金 | J5: 総計 （円）
A6: 2
C7: 契約電力 （kＷ) | D7: 単価 （円/kＷ) | E7: 力率 （％） | F7: 合計 （円） | G7: 予定使用電力量 （kＷh） | H7: 単価 （円/kＷh) | I7: 合計 （円）
C9: a | D9: ｂ | E9: c | F9: d（=a×b×（1.85－c/100）） | G9: e | H9: f | I9: g(=e×f） | J9: j＝d＋g
B10: 令和9年1月 | C10: 316 | E10: 100 | F10: =C10*D10*(1.85-E10/100) -> 0 | G10: 32023 | I10: =G10*H10 -> 0 | J10: =ROUNDDOWN(F10+I10,0) -> 0
B11: 令和9年2月 | C11: 316 | E11: 100 | F11: =C11*D11*(1.85-E11/100) -> 0 | G11: 27761 | I11: =G11*H11 -> 0 | J11: =ROUNDDOWN(F11+I11,0) -> 0
B12: 令和9年3月 | C12: 316 | E12: 100 | F12: =C12*D12*(1.85-E12/100) -> 0 | G12: 24546 | I12: =G12*H12 -> 0 | J12: =ROUNDDOWN(F12+I12,0) -> 0
B13: 令和9年4月 | C13: 316 | E13: 100 | F13: =C13*D13*(1.85-E13/100) -> 0 | G13: 17571 | I13: =G13*H13 -> 0 | J13: =ROUNDDOWN(F13+I13,0) -> 0
B14: 令和9年5月 | C14: 316 | E14: 100 | F14: =C14*D14*(1.85-E14/100) -> 0 | G14: 20436 | I14: =G14*H14 -> 0 | J14: =ROUNDDOWN(F14+I14,0) -> 0
B15: 令和9年6月 | C15: 316 | E15: 100 | F15: =C15*D15*(1.85-E15/100) -> 0 | G15: 33964 | I15: =G15*H15 -> 0 | J15: =ROUNDDOWN(F15+I15,0) -> 0
B16: 令和9年7月 | C16: 316 | E16: 100 | F16: =C16*D16*(1.85-E16/100) -> 0 | G16: 45755 | I16: =G16*H16 -> 0 | J16: =ROUNDDOWN(F16+I16,0) -> 0
B17: 令和9年8月 | C17: 316 | E17: 100 | F17: =C17*D17*(1.85-E17/100) -> 0 | G17: 28518 | I17: =G17*H17 -> 0 | J17: =ROUNDDOWN(F17+I17,0) -> 0
B18: 令和9年9月 | C18: 316 | E18: 100 | F18: =C18*D18*(1.85-E18/100) -> 0 | G18: 41979 | I18: =G18*H18 -> 0 | J18: =ROUNDDOWN(F18+I18,0) -> 0
B19: 令和9年10月 | C19: 316 | E19: 100 | F19: =C19*D19*(1.85-E19/100) -> 0 | G19: 19987 | I19: =G19*H19 -> 0 | J19: =ROUNDDOWN(F19+I19,0) -> 0
B20: 令和9年11月 | C20: 316 | E20: 100 | F20: =C20*D20*(1.85-E20/100) -> 0 | G20: 20825 | I20: =G20*H20 -> 0 | J20: =ROUNDDOWN(F20+I20,0) -> 0
B21: 令和9年12月 | C21: 316 | E21: 100 | F21: =C21*D21*(1.85-E21/100) -> 0 | G21: 28490 | I21: =G21*H21 -> 0 | J21: =ROUNDDOWN(F21+I21,0) -> 0
B22: 令和9年の計 （A） | J22: =SUM(J10:J21) -> 0

Sheet 積算内訳（28大原中学校）
B3: 施設名： | C3: 28 | D3: 大原中学校
C5: 常時電力基本料金 | G5: 電力量料金 | J5: 総計 （円）
A6: 2
C7: 契約電力 （kＷ) | D7: 単価 （円/kＷ) | E7: 力率 （％） | F7: 合計 （円） | G7: 予定使用電力量 （kＷh） | H7: 単価 （円/kＷh) | I7: 合計 （円）
C9: a | D9: ｂ | E9: c | F9: d（=a×b×（1.85－c/100）） | G9: e | H9: f | I9: g(=e×f） | J9: j＝d＋g
B10: 令和9年1月 | C10: 397 | E10: 100 | F10: =C10*D10*(1.85-E10/100) -> 0 | G10: 34294 | I10: =G10*H10 -> 0 | J10: =ROUNDDOWN(F10+I10,0) -> 0
B11: 令和9年2月 | C11: 397 | E11: 100 | F11: =C11*D11*(1.85-E11/100) -> 0 | G11: 32702 | I11: =G11*H11 -> 0 | J11: =ROUNDDOWN(F11+I11,0) -> 0
B12: 令和9年3月 | C12: 397 | E12: 100 | F12: =C12*D12*(1.85-E12/100) -> 0 | G12: 30801 | I12: =G12*H12 -> 0 | J12: =ROUNDDOWN(F12+I12,0) -> 0
B13: 令和9年4月 | C13: 397 | E13: 100 | F13: =C13*D13*(1.85-E13/100) -> 0 | G13: 19300 | I13: =G13*H13 -> 0 | J13: =ROUNDDOWN(F13+I13,0) -> 0
B14: 令和9年5月 | C14: 397 | E14: 100 | F14: =C14*D14*(1.85-E14/100) -> 0 | G14: 29167 | I14: =G14*H14 -> 0 | J14: =ROUNDDOWN(F14+I14,0) -> 0
B15: 令和9年6月 | C15: 397 | E15: 100 | F15: =C15*D15*(1.85-E15/100) -> 0 | G15: 43574 | I15: =G15*H15 -> 0 | J15: =ROUNDDOWN(F15+I15,0) -> 0
B16: 令和9年7月 | C16: 397 | E16: 100 | F16: =C16*D16*(1.85-E16/100) -> 0 | G16: 63368 | I16: =G16*H16 -> 0 | J16: =ROUNDDOWN(F16+I16,0) -> 0
B17: 令和9年8月 | C17: 397 | E17: 100 | F17: =C17*D17*(1.85-E17/100) -> 0 | G17: 46617 | I17: =G17*H17 -> 0 | J17: =ROUNDDOWN(F17+I17,0) -> 0
B18: 令和9年9月 | C18: 397 | E18: 100 | F18: =C18*D18*(1.85-E18/100) -> 0 | G18: 60155 | I18: =G18*H18 -> 0 | J18: =ROUNDDOWN(F18+I18,0) -> 0
B19: 令和9年10月 | C19: 397 | E19: 100 | F19: =C19*D19*(1.85-E19/100) -> 0 | G19: 27256 | I19: =G19*H19 -> 0 | J19: =ROUNDDOWN(F19+I19,0) -> 0
B20: 令和9年11月 | C20: 397 | E20: 100 | F20: =C20*D20*(1.85-E20/100) -> 0 | G20: 19655 | I20: =G20*H20 -> 0 | J20: =ROUNDDOWN(F20+I20,0) -> 0
B21: 令和9年12月 | C21: 397 | E21: 100 | F21: =C21*D21*(1.85-E21/100) -> 0 | G21: 28353 | I21: =G21*H21 -> 0 | J21: =ROUNDDOWN(F21+I21,0) -> 0
B22: 令和9年の計 （A） | J22: =SUM(J10:J21) -> 0

Sheet 積算内訳（29八條中学校）
B3: 施設名： | C3: 29 | D3: 八條中学校
C5: 常時電力基本料金 | G5: 電力量料金 | J5: 総計 （円）
A6: 2
C7: 契約電力 （kＷ) | D7: 単価 （円/kＷ) | E7: 力率 （％） | F7: 合計 （円） | G7: 予定使用電力量 （kＷh） | H7: 単価 （円/kＷh) | I7: 合計 （円）
C9: a | D9: ｂ | E9: c | F9: d（=a×b×（1.85－c/100）） | G9: e | H9: f | I9: g(=e×f） | J9: j＝d＋g
B10: 令和9年1月 | C10: 181 | E10: 100 | F10: =C10*D10*(1.85-E10/100) -> 0 | G10: 15225 | I10: =G10*H10 -> 0 | J10: =ROUNDDOWN(F10+I10,0) -> 0
B11: 令和9年2月 | C11: 181 | E11: 100 | F11: =C11*D11*(1.85-E11/100) -> 0 | G11: 14102 | I11: =G11*H11 -> 0 | J11: =ROUNDDOWN(F11+I11,0) -> 0
B12: 令和9年3月 | C12: 181 | E12: 100 | F12: =C12*D12*(1.85-E12/100) -> 0 | G12: 14269 | I12: =G12*H12 -> 0 | J12: =ROUNDDOWN(F12+I12,0) -> 0
B13: 令和9年4月 | C13: 181 | E13: 100 | F13: =C13*D13*(1.85-E13/100) -> 0 | G13: 8598 | I13: =G13*H13 -> 0 | J13: =ROUNDDOWN(F13+I13,0) -> 0
B14: 令和9年5月 | C14: 181 | E14: 100 | F14: =C14*D14*(1.85-E14/100) -> 0 | G14: 9144 | I14: =G14*H14 -> 0 | J14: =ROUNDDOWN(F14+I14,0) -> 0
B15: 令和9年6月 | C15: 181 | E15: 100 | F15: =C15*D15*(1.85-E15/100) -> 0 | G15: 16213 | I15: =G15*H15 -> 0 | J15: =ROUNDDOWN(F15+I15,0) -> 0
B16: 令和9年7月 | C16: 181 | E16: 100 | F16: =C16*D16*(1.85-E16/100) -> 0 | G16: 24905 | I16: =G16*H16 -> 0 | J16: =ROUNDDOWN(F16+I16,0) -> 0
B17: 令和9年8月 | C17: 181 | E17: 100 | F17: =C17*D17*(1.85-E17/100) -> 0 | G17: 12526 | I17: =G17*H17 -> 0 | J17: =ROUNDDOWN(F17+I17,0) -> 0
B18: 令和9年9月 | C18: 181 | E18: 100 | F18: =C18*D18*(1.85-E18/100) -> 0 | G18: 20260 | I18: =G18*H18 -> 0 | J18: =ROUNDDOWN(F18+I18,0) -> 0
B19: 令和9年10月 | C19: 181 | E19: 100 | F19: =C19*D19*(1.85-E19/100) -> 0 | G19: 9973 | I19: =G19*H19 -> 0 | J19: =ROUNDDOWN(F19+I19,0) -> 0
B20: 令和9年11月 | C20: 181 | E20: 100 | F20: =C20*D20*(1.85-E20/100) -> 0 | G20: 10481 | I20: =G20*H20 -> 0 | J20: =ROUNDDOWN(F20+I20,0) -> 0
B21: 令和9年12月 | C21: 181 | E21: 100 | F21: =C21*D21*(1.85-E21/100) -> 0 | G21: 13524 | I21: =G21*H21 -> 0 | J21: =ROUNDDOWN(F21+I21,0) -> 0
B22: 令和9年の計 （A） | J22: =SUM(J10:J21) -> 0

Sheet 積算内訳（30八幡中学校）
B3: 施設名： | C3: 30 | D3: 八幡中学校
C5: 常時電力基本料金 | G5: 電力量料金 | J5: 総計 （円）
A6: 2
C7: 契約電力 （kＷ) | D7: 単価 （円/kＷ) | E7: 力率 （％） | F7: 合計 （円） | G7: 予定使用電力量 （kＷh） | H7: 単価 （円/kＷh) | I7: 合計 （円）
C9: a | D9: ｂ | E9: c | F9: d（=a×b×（1.85－c/100）） | G9: e | H9: f | I9: g(=e×f） | J9: j＝d＋g
B10: 令和9年1月 | C10: 229 | E10: 100 | F10: =C10*D10*(1.85-E10/100) -> 0 | G10: 23152 | I10: =G10*H10 -> 0 | J10: =ROUNDDOWN(F10+I10,0) -> 0
B11: 令和9年2月 | C11: 229 | E11: 100 | F11: =C11*D11*(1.85-E11/100) -> 0 | G11: 20989 | I11: =G11*H11 -> 0 | J11: =ROUNDDOWN(F11+I11,0) -> 0
B12: 令和9年3月 | C12: 229 | E12: 100 | F12: =C12*D12*(1.85-E12/100) -> 0 | G12: 17793 | I12: =G12*H12 -> 0 | J12: =ROUNDDOWN(F12+I12,0) -> 0
B13: 令和9年4月 | C13: 229 | E13: 100 | F13: =C13*D13*(1.85-E13/100) -> 0 | G13: 12447 | I13: =G13*H13 -> 0 | J13: =ROUNDDOWN(F13+I13,0) -> 0
B14: 令和9年5月 | C14: 229 | E14: 100 | F14: =C14*D14*(1.85-E14/100) -> 0 | G14: 13606 | I14: =G14*H14 -> 0 | J14: =ROUNDDOWN(F14+I14,0) -> 0
B15: 令和9年6月 | C15: 229 | E15: 100 | F15: =C15*D15*(1.85-E15/100) -> 0 | G15: 22762 | I15: =G15*H15 -> 0 | J15: =ROUNDDOWN(F15+I15,0) -> 0
B16: 令和9年7月 | C16: 229 | E16: 100 | F16: =C16*D16*(1.85-E16/100) -> 0 | G16: 38461 | I16: =G16*H16 -> 0 | J16: =ROUNDDOWN(F16+I16,0) -> 0
B17: 令和9年8月 | C17: 229 | E17: 100 | F17: =C17*D17*(1.85-E17/100) -> 0 | G17: 27598 | I17: =G17*H17 -> 0 | J17: =ROUNDDOWN(F17+I17,0) -> 0
B18: 令和9年9月 | C18: 229 | E18: 100 | F18: =C18*D18*(1.85-E18/100) -> 0 | G18: 30598 | I18: =G18*H18 -> 0 | J18: =ROUNDDOWN(F18+I18,0) -> 0
B19: 令和9年10月 | C19: 229 | E19: 100 | F19: =C19*D19*(1.85-E19/100) -> 0 | G19: 12440 | I19: =G19*H19 -> 0 | J19: =ROUNDDOWN(F19+I19,0) -> 0
B20: 令和9年11月 | C20: 229 | E20: 100 | F20: =C20*D20*(1.85-E20/100) -> 0 | G20: 17407 | I20: =G20*H20 -> 0 | J20: =ROUNDDOWN(F20+I20,0) -> 0
B21: 令和9年12月 | C21: 229 | E21: 100 | F21: =C21*D21*(1.85-E21/100) -> 0 | G21: 23830 | I21: =G21*H21 -> 0 | J21: =ROUNDDOWN(F21+I21,0) -> 0
B22: 令和9年の計 （A） | J22: =SUM(J10:J21) -> 0

Sheet 積算内訳（31潮止中学校）
B3: 施設名： | C3: 31 | D3: 潮止中学校
C5: 常時電力基本料金 | G5: 電力量料金 | J5: 総計 （円）
A6: 2
C7: 契約電力 （kＷ) | D7: 単価 （円/kＷ) | E7: 力率 （％） | F7: 合計 （円） | G7: 予定使用電力量 （kＷh） | H7: 単価 （円/kＷh) | I7: 合計 （円）
C9: a | D9: ｂ | E9: c | F9: d（=a×b×（1.85－c/100）） | G9: e | H9: f | I9: g(=e×f） | J9: j＝d＋g
B10: 令和9年1月 | C10: 239 | E10: 100 | F10: =C10*D10*(1.85-E10/100) -> 0 | G10: 20297 | I10: =G10*H10 -> 0 | J10: =ROUNDDOWN(F10+I10,0) -> 0
B11: 令和9年2月 | C11: 239 | E11: 100 | F11: =C11*D11*(1.85-E11/100) -> 0 | G11: 20081 | I11: =G11*H11 -> 0 | J11: =ROUNDDOWN(F11+I11,0) -> 0
B12: 令和9年3月 | C12: 239 | E12: 100 | F12: =C12*D12*(1.85-E12/100) -> 0 | G12: 18215 | I12: =G12*H12 -> 0 | J12: =ROUNDDOWN(F12+I12,0) -> 0
B13: 令和9年4月 | C13: 239 | E13: 100 | F13: =C13*D13*(1.85-E13/100) -> 0 | G13: 12162 | I13: =G13*H13 -> 0 | J13: =ROUNDDOWN(F13+I13,0) -> 0
B14: 令和9年5月 | C14: 239 | E14: 100 | F14: =C14*D14*(1.85-E14/100) -> 0 | G14: 13972 | I14: =G14*H14 -> 0 | J14: =ROUNDDOWN(F14+I14,0) -> 0
B15: 令和9年6月 | C15: 239 | E15: 100 | F15: =C15*D15*(1.85-E15/100) -> 0 | G15: 24922 | I15: =G15*H15 -> 0 | J15: =ROUNDDOWN(F15+I15,0) -> 0
B16: 令和9年7月 | C16: 239 | E16: 100 | F16: =C16*D16*(1.85-E16/100) -> 0 | G16: 37145 | I16: =G16*H16 -> 0 | J16: =ROUNDDOWN(F16+I16,0) -> 0
B17: 令和9年8月 | C17: 239 | E17: 100 | F17: =C17*D17*(1.85-E17/100) -> 0 | G17: 27428 | I17: =G17*H17 -> 0 | J17: =ROUNDDOWN(F17+I17,0) -> 0
B18: 令和9年9月 | C18: 239 | E18: 100 | F18: =C18*D18*(1.85-E18/100) -> 0 | G18: 33388 | I18: =G18*H18 -> 0 | J18: =ROUNDDOWN(F18+I18,0) -> 0
B19: 令和9年10月 | C19: 239 | E19: 100 | F19: =C19*D19*(1.85-E19/100) -> 0 | G19: 16555 | I19: =G19*H19 -> 0 | J19: =ROUNDDOWN(F19+I19,0) -> 0
B20: 令和9年11月 | C20: 239 | E20: 100 | F20: =C20*D20*(1.85-E20/100) -> 0 | G20: 15713 | I20: =G20*H20 -> 0 | J20: =ROUNDDOWN(F20+I20,0) -> 0
B21: 令和9年12月 | C21: 239 | E21: 100 | F21: =C21*D21*(1.85-E21/100) -> 0 | G21: 21290 | I21: =G21*H21 -> 0 | J21: =ROUNDDOWN(F21+I21,0) -> 0
B22: 令和9年の計 （A） | J22: =SUM(J10:J21) -> 0

Sheet 積算内訳（32西袋排水機場）
B3: 施設名： | C3: 32 | D3: 西袋排水機場
C5: 常時電力基本料金 | G5: 電力量料金 | J5: 総計 （円）
A6: 2
C7: 契約電力 （kＷ) | D7: 単価 （円/kＷ) | E7: 力率 （％） | F7: 合計 （円） | G7: 予定使用電力量 （kＷh） | H7: 単価 （円/kＷh) | I7: 合計 （円）
C9: a | D9: ｂ | E9: c | F9: d（=a×b×（1.85－c/100）） | G9: e | H9: f | I9: g(=e×f） | J9: j＝d＋g
B10: 令和9年1月 | C10: 66 | E10: 100 | F10: =C10*D10*(1.85-E10/100) -> 0 | G10: 2450 | I10: =G10*H10 -> 0 | J10: =ROUNDDOWN(F10+I10,0) -> 0
B11: 令和9年2月 | C11: 66 | E11: 100 | F11: =C11*D11*(1.85-E11/100) -> 0 | G11: 2100 | I11: =G11*H11 -> 0 | J11: =ROUNDDOWN(F11+I11,0) -> 0
B12: 令和9年3月 | C12: 66 | E12: 100 | F12: =C12*D12*(1.85-E12/100) -> 0 | G12: 2685 | I12: =G12*H12 -> 0 | J12: =ROUNDDOWN(F12+I12,0) -> 0
B13: 令和9年4月 | C13: 66 | E13: 100 | F13: =C13*D13*(1.85-E13/100) -> 0 | G13: 2753 | I13: =G13*H13 -> 0 | J13: =ROUNDDOWN(F13+I13,0) -> 0
B14: 令和9年5月 | C14: 66 | E14: 100 | F14: =C14*D14*(1.85-E14/100) -> 0 | G14: 3112 | I14: =G14*H14 -> 0 | J14: =ROUNDDOWN(F14+I14,0) -> 0
B15: 令和9年6月 | C15: 66 | E15: 100 | F15: =C15*D15*(1.85-E15/100) -> 0 | G15: 2721 | I15: =G15*H15 -> 0 | J15: =ROUNDDOWN(F15+I15,0) -> 0
B16: 令和9年7月 | C16: 66 | E16: 100 | F16: =C16*D16*(1.85-E16/100) -> 0 | G16: 2409 | I16: =G16*H16 -> 0 | J16: =ROUNDDOWN(F16+I16,0) -> 0
B17: 令和9年8月 | C17: 66 | E17: 100 | F17: =C17*D17*(1.85-E17/100) -> 0 | G17: 2251 | I17: =G17*H17 -> 0 | J17: =ROUNDDOWN(F17+I17,0) -> 0
B18: 令和9年9月 | C18: 66 | E18: 100 | F18: =C18*D18*(1.85-E18/100) -> 0 | G18: 2516 | I18: =G18*H18 -> 0 | J18: =ROUNDDOWN(F18+I18,0) -> 0
B19: 令和9年10月 | C19: 66 | E19: 100 | F19: =C19*D19*(1.85-E19/100) -> 0 | G19: 2535 | I19: =G19*H19 -> 0 | J19: =ROUNDDOWN(F19+I19,0) -> 0
B20: 令和9年11月 | C20: 66 | E20: 100 | F20: =C20*D20*(1.85-E20/100) -> 0 | G20: 2452 | I20: =G20*H20 -> 0 | J20: =ROUNDDOWN(F20+I20,0) -> 0
B21: 令和9年12月 | C21: 66 | E21: 100 | F21: =C21*D21*(1.85-E21/100) -> 0 | G21: 2468 | I21: =G21*H21 -> 0 | J21: =ROUNDDOWN(F21+I21,0) -> 0
B22: 令和9年の計 （A） | J22: =SUM(J10:J21) -> 0

Sheet 積算内訳（33南後谷排水機場）
B3: 施設名： | C3: 33 | D3: 南後谷排水機場
C5: 常時電力基本料金 | G5: 電力量料金 | J5: 総計 （円）
A6: 2
C7: 契約電力 （kＷ) | D7: 単価 （円/kＷ) | E7: 力率 （％） | F7: 合計 （円） | G7: 予定使用電力量 （kＷh） | H7: 単価 （円/kＷh) | I7: 合計 （円）
C9: a | D9: ｂ | E9: c | F9: d（=a×b×（1.85－c/100）） | G9: e | H9: f | I9: g(=e×f） | J9: j＝d＋g
B10: 令和9年1月 | C10: 42 | E10: 100 | F10: =C10*D10*(1.85-E10/100) -> 0 | G10: 1429 | I10: =G10*H10 -> 0 | J10: =ROUNDDOWN(F10+I10,0) -> 0
B11: 令和9年2月 | C11: 42 | E11: 100 | F11: =C11*D11*(1.85-E11/100) -> 0 | G11: 1254 | I11: =G11*H11 -> 0 | J11: =ROUNDDOWN(F11+I11,0) -> 0
B12: 令和9年3月 | C12: 42 | E12: 100 | F12: =C12*D12*(1.85-E12/100) -> 0 | G12: 1690 | I12: =G12*H12 -> 0 | J12: =ROUNDDOWN(F12+I12,0) -> 0
B13: 令和9年4月 | C13: 42 | E13: 100 | F13: =C13*D13*(1.85-E13/100) -> 0 | G13: 1788 | I13: =G13*H13 -> 0 | J13: =ROUNDDOWN(F13+I13,0) -> 0
B14: 令和9年5月 | C14: 42 | E14: 100 | F14: =C14*D14*(1.85-E14/100) -> 0 | G14: 2096 | I14: =G14*H14 -> 0 | J14: =ROUNDDOWN(F14+I14,0) -> 0
B15: 令和9年6月 | C15: 42 | E15: 100 | F15: =C15*D15*(1.85-E15/100) -> 0 | G15: 1826 | I15: =G15*H15 -> 0 | J15: =ROUNDDOWN(F15+I15,0) -> 0
B16: 令和9年7月 | C16: 42 | E16: 100 | F16: =C16*D16*(1.85-E16/100) -> 0 | G16: 1658 | I16: =G16*H16 -> 0 | J16: =ROUNDDOWN(F16+I16,0) -> 0
B17: 令和9年8月 | C17: 42 | E17: 100 | F17: =C17*D17*(1.85-E17/100) -> 0 | G17: 1663 | I17: =G17*H17 -> 0 | J17: =ROUNDDOWN(F17+I17,0) -> 0
B18: 令和9年9月 | C18: 42 | E18: 100 | F18: =C18*D18*(1.85-E18/100) -> 0 | G18: 1746 | I18: =G18*H18 -> 0 | J18: =ROUNDDOWN(F18+I18,0) -> 0
B19: 令和9年10月 | C19: 42 | E19: 100 | F19: =C19*D19*(1.85-E19/100) -> 0 | G19: 1591 | I19: =G19*H19 -> 0 | J19: =ROUNDDOWN(F19+I19,0) -> 0
B20: 令和9年11月 | C20: 42 | E20: 100 | F20: =C20*D20*(1.85-E20/100) -> 0 | G20: 1506 | I20: =G20*H20 -> 0 | J20: =ROUNDDOWN(F20+I20,0) -> 0
B21: 令和9年12月 | C21: 42 | E21: 100 | F21: =C21*D21*(1.85-E21/100) -> 0 | G21: 1630 | I21: =G21*H21 -> 0 | J21: =ROUNDDOWN(F21+I21,0) -> 0
B22: 令和9年の計 （A） | J22: =SUM(J10:J21) -> 0

Sheet 積算内訳（34鳥内排水機場）
B3: 施設名： | C3: 34 | D3: 鳥内排水機場
C5: 常時電力基本料金 | G5: 電力量料金 | J5: 総計 （円）
A6: 2
C7: 契約電力 （kＷ) | D7: 単価 （円/kＷ) | E7: 力率 （％） | F7: 合計 （円） | G7: 予定使用電力量 （kＷh） | H7: 単価 （円/kＷh) | I7: 合計 （円）
C9: a | D9: ｂ | E9: c | F9: d（=a×b×（1.85－c/100）） | G9: e | H9: f | I9: g(=e×f） | J9: j＝d＋g
B10: 令和9年1月 | C10: 84 | E10: 100 | F10: =C10*D10*(1.85-E10/100) -> 0 | G10: 3469 | I10: =G10*H10 -> 0 | J10: =ROUNDDOWN(F10+I10,0) -> 0
B11: 令和9年2月 | C11: 84 | E11: 100 | F11: =C11*D11*(1.85-E11/100) -> 0 | G11: 2941 | I11: =G11*H11 -> 0 | J11: =ROUNDDOWN(F11+I11,0) -> 0
B12: 令和9年3月 | C12: 84 | E12: 100 | F12: =C12*D12*(1.85-E12/100) -> 0 | G12: 3728 | I12: =G12*H12 -> 0 | J12: =ROUNDDOWN(F12+I12,0) -> 0
B13: 令和9年4月 | C13: 84 | E13: 100 | F13: =C13*D13*(1.85-E13/100) -> 0 | G13: 3622 | I13: =G13*H13 -> 0 | J13: =ROUNDDOWN(F13+I13,0) -> 0
B14: 令和9年5月 | C14: 84 | E14: 100 | F14: =C14*D14*(1.85-E14/100) -> 0 | G14: 3960 | I14: =G14*H14 -> 0 | J14: =ROUNDDOWN(F14+I14,0) -> 0
B15: 令和9年6月 | C15: 84 | E15: 100 | F15: =C15*D15*(1.85-E15/100) -> 0 | G15: 3651 | I15: =G15*H15 -> 0 | J15: =ROUNDDOWN(F15+I15,0) -> 0
B16: 令和9年7月 | C16: 84 | E16: 100 | F16: =C16*D16*(1.85-E16/100) -> 0 | G16: 3371 | I16: =G16*H16 -> 0 | J16: =ROUNDDOWN(F16+I16,0) -> 0
B17: 令和9年8月 | C17: 84 | E17: 100 | F17: =C17*D17*(1.85-E17/100) -> 0 | G17: 3366 | I17: =G17*H17 -> 0 | J17: =ROUNDDOWN(F17+I17,0) -> 0
B18: 令和9年9月 | C18: 84 | E18: 100 | F18: =C18*D18*(1.85-E18/100) -> 0 | G18: 3490 | I18: =G18*H18 -> 0 | J18: =ROUNDDOWN(F18+I18,0) -> 0
B19: 令和9年10月 | C19: 84 | E19: 100 | F19: =C19*D19*(1.85-E19/100) -> 0 | G19: 3336 | I19: =G19*H19 -> 0 | J19: =ROUNDDOWN(F19+I19,0) -> 0
B20: 令和9年11月 | C20: 84 | E20: 100 | F20: =C20*D20*(1.85-E20/100) -> 0 | G20: 3114 | I20: =G20*H20 -> 0 | J20: =ROUNDDOWN(F20+I20,0) -> 0
B21: 令和9年12月 | C21: 84 | E21: 100 | F21: =C21*D21*(1.85-E21/100) -> 0 | G21: 3247 | I21: =G21*H21 -> 0 | J21: =ROUNDDOWN(F21+I21,0) -> 0
B22: 令和9年の計 （A） | J22: =SUM(J10:J21) -> 0

Sheet 積算内訳（35西袋汚水中継ポンプ場）
B3: 施設名： | C3: 35 | D3: 西袋汚水中継ポンプ場
C5: 常時電力基本料金 | G5: 電力量料金 | J5: 総計 （円）
A6: 2
C7: 契約電力 （kＷ) | D7: 単価 （円/kＷ) | E7: 力率 （％） | F7: 合計 （円） | G7: 予定使用電力量 （kＷh） | H7: 単価 （円/kＷh) | I7: 合計 （円）
C9: a | D9: ｂ | E9: c | F9: d（=a×b×（1.85－c/100）） | G9: e | H9: f | I9: g(=e×f） | J9: j＝d＋g
B10: 令和9年1月 | C10: 85 | E10: 100 | F10: =C10*D10*(1.85-E10/100) -> 0 | G10: 9239 | I10: =G10*H10 -> 0 | J10: =ROUNDDOWN(F10+I10,0) -> 0
B11: 令和9年2月 | C11: 85 | E11: 100 | F11: =C11*D11*(1.85-E11/100) -> 0 | G11: 8932 | I11: =G11*H11 -> 0 | J11: =ROUNDDOWN(F11+I11,0) -> 0
B12: 令和9年3月 | C12: 85 | E12: 100 | F12: =C12*D12*(1.85-E12/100) -> 0 | G12: 8123 | I12: =G12*H12 -> 0 | J12: =ROUNDDOWN(F12+I12,0) -> 0
B13: 令和9年4月 | C13: 85 | E13: 100 | F13: =C13*D13*(1.85-E13/100) -> 0 | G13: 9346 | I13: =G13*H13 -> 0 | J13: =ROUNDDOWN(F13+I13,0) -> 0
B14: 令和9年5月 | C14: 85 | E14: 100 | F14: =C14*D14*(1.85-E14/100) -> 0 | G14: 8880 | I14: =G14*H14 -> 0 | J14: =ROUNDDOWN(F14+I14,0) -> 0
B15: 令和9年6月 | C15: 85 | E15: 100 | F15: =C15*D15*(1.85-E15/100) -> 0 | G15: 9378 | I15: =G15*H15 -> 0 | J15: =ROUNDDOWN(F15+I15,0) -> 0
B16: 令和9年7月 | C16: 85 | E16: 100 | F16: =C16*D16*(1.85-E16/100) -> 0 | G16: 9658 | I16: =G16*H16 -> 0 | J16: =ROUNDDOWN(F16+I16,0) -> 0
B17: 令和9年8月 | C17: 85 | E17: 100 | F17: =C17*D17*(1.85-E17/100) -> 0 | G17: 9978 | I17: =G17*H17 -> 0 | J17: =ROUNDDOWN(F17+I17,0) -> 0
B18: 令和9年9月 | C18: 85 | E18: 100 | F18: =C18*D18*(1.85-E18/100) -> 0 | G18: 9992 | I18: =G18*H18 -> 0 | J18: =ROUNDDOWN(F18+I18,0) -> 0
B19: 令和9年10月 | C19: 85 | E19: 100 | F19: =C19*D19*(1.85-E19/100) -> 0 | G19: 8843 | I19: =G19*H19 -> 0 | J19: =ROUNDDOWN(F19+I19,0) -> 0
B20: 令和9年11月 | C20: 85 | E20: 100 | F20: =C20*D20*(1.85-E20/100) -> 0 | G20: 9210 | I20: =G20*H20 -> 0 | J20: =ROUNDDOWN(F20+I20,0) -> 0
B21: 令和9年12月 | C21: 85 | E21: 100 | F21: =C21*D21*(1.85-E21/100) -> 0 | G21: 11147 | I21: =G21*H21 -> 0 | J21: =ROUNDDOWN(F21+I21,0) -> 0
B22: 令和9年の計 （A） | J22: =SUM(J10:J21) -> 0

Sheet 積算内訳（36中央浄水場）
B3: 施設名： | C3: 36 | D3: 中央浄水場
C5: 常時電力基本料金 | G5: 電力量料金 | J5: 総計 （円）
A6: 2
C7: 契約電力 （kＷ) | D7: 単価 （円/kＷ) | E7: 力率 （％） | F7: 合計 （円） | G7: 予定使用電力量 （kＷh） | H7: 単価 （円/kＷh) | I7: 合計 （円）
C9: a | D9: ｂ | E9: c | F9: d（=a×b×（1.85－c/100）） | G9: e | H9: f | I9: g(=e×f） | J9: j＝d＋g
B10: 令和9年1月 | C10: 274 | E10: 100 | F10: =C10*D10*(1.85-E10/100) -> 0 | G10: 105718 | I10: =G10*H10 -> 0 | J10: =ROUNDDOWN(F10+I10,0) -> 0
B11: 令和9年2月 | C11: 274 | E11: 100 | F11: =C11*D11*(1.85-E11/100) -> 0 | G11: 95635 | I11: =G11*H11 -> 0 | J11: =ROUNDDOWN(F11+I11,0) -> 0
B12: 令和9年3月 | C12: 274 | E12: 100 | F12: =C12*D12*(1.85-E12/100) -> 0 | G12: 91274 | I12: =G12*H12 -> 0 | J12: =ROUNDDOWN(F12+I12,0) -> 0
B13: 令和9年4月 | C13: 274 | E13: 100 | F13: =C13*D13*(1.85-E13/100) -> 0 | G13: 99538 | I13: =G13*H13 -> 0 | J13: =ROUNDDOWN(F13+I13,0) -> 0
B14: 令和9年5月 | C14: 274 | E14: 100 | F14: =C14*D14*(1.85-E14/100) -> 0 | G14: 94709 | I14: =G14*H14 -> 0 | J14: =ROUNDDOWN(F14+I14,0) -> 0
B15: 令和9年6月 | C15: 274 | E15: 100 | F15: =C15*D15*(1.85-E15/100) -> 0 | G15: 102403 | I15: =G15*H15 -> 0 | J15: =ROUNDDOWN(F15+I15,0) -> 0
B16: 令和9年7月 | C16: 274 | E16: 100 | F16: =C16*D16*(1.85-E16/100) -> 0 | G16: 101506 | I16: =G16*H16 -> 0 | J16: =ROUNDDOWN(F16+I16,0) -> 0
B17: 令和9年8月 | C17: 274 | E17: 100 | F17: =C17*D17*(1.85-E17/100) -> 0 | G17: 100570 | I17: =G17*H17 -> 0 | J17: =ROUNDDOWN(F17+I17,0) -> 0
B18: 令和9年9月 | C18: 274 | E18: 100 | F18: =C18*D18*(1.85-E18/100) -> 0 | G18: 105017 | I18: =G18*H18 -> 0 | J18: =ROUNDDOWN(F18+I18,0) -> 0
B19: 令和9年10月 | C19: 274 | E19: 100 | F19: =C19*D19*(1.85-E19/100) -> 0 | G19: 99221 | I19: =G19*H19 -> 0 | J19: =ROUNDDOWN(F19+I19,0) -> 0
B20: 令和9年11月 | C20: 274 | E20: 100 | F20: =C20*D20*(1.85-E20/100) -> 0 | G20: 101218 | I20: =G20*H20 -> 0 | J20: =ROUNDDOWN(F20+I20,0) -> 0
B21: 令和9年12月 | C21: 274 | E21: 100 | F21: =C21*D21*(1.85-E21/100) -> 0 | G21: 100102 | I21: =G21*H21 -> 0 | J21: =ROUNDDOWN(F21+I21,0) -> 0
B22: 令和9年の計 （A） | J22: =SUM(J10:J21) -> 0

Sheet 積算内訳（37南部配水場）
B3: 施設名： | C3: 37 | D3: 南部配水場
C5: 常時電力基本料金 | G5: 電力量料金 | J5: 総計 （円）
A6: 2
C7: 契約電力 （kＷ) | D7: 単価 （円/kＷ) | E7: 力率 （％） | F7: 合計 （円） | G7: 予定使用電力量 （kＷh） | H7: 単価 （円/kＷh) | I7: 合計 （円）
C9: a | D9: ｂ | E9: c | F9: d（=a×b×（1.85－c/100）） | G9: e | H9: f | I9: g(=e×f） | J9: j＝d＋g
B10: 令和9年1月 | C10: 149 | E10: 100 | F10: =C10*D10*(1.85-E10/100) -> 0 | G10: 39350 | I10: =G10*H10 -> 0 | J10: =ROUNDDOWN(F10+I10,0) -> 0
B11: 令和9年2月 | C11: 149 | E11: 100 | F11: =C11*D11*(1.85-E11/100) -> 0 | G11: 49388 | I11: =G11*H11 -> 0 | J11: =ROUNDDOWN(F11+I11,0) -> 0
B12: 令和9年3月 | C12: 149 | E12: 100 | F12: =C12*D12*(1.85-E12/100) -> 0 | G12: 46748 | I12: =G12*H12 -> 0 | J12: =ROUNDDOWN(F12+I12,0) -> 0
B13: 令和9年4月 | C13: 149 | E13: 100 | F13: =C13*D13*(1.85-E13/100) -> 0 | G13: 51997 | I13: =G13*H13 -> 0 | J13: =ROUNDDOWN(F13+I13,0) -> 0
B14: 令和9年5月 | C14: 149 | E14: 100 | F14: =C14*D14*(1.85-E14/100) -> 0 | G14: 52129 | I14: =G14*H14 -> 0 | J14: =ROUNDDOWN(F14+I14,0) -> 0
B15: 令和9年6月 | C15: 149 | E15: 100 | F15: =C15*D15*(1.85-E15/100) -> 0 | G15: 54195 | I15: =G15*H15 -> 0 | J15: =ROUNDDOWN(F15+I15,0) -> 0
B16: 令和9年7月 | C16: 149 | E16: 100 | F16: =C16*D16*(1.85-E16/100) -> 0 | G16: 54546 | I16: =G16*H16 -> 0 | J16: =ROUNDDOWN(F16+I16,0) -> 0
B17: 令和9年8月 | C17: 149 | E17: 100 | F17: =C17*D17*(1.85-E17/100) -> 0 | G17: 55251 | I17: =G17*H17 -> 0 | J17: =ROUNDDOWN(F17+I17,0) -> 0
B18: 令和9年9月 | C18: 149 | E18: 100 | F18: =C18*D18*(1.85-E18/100) -> 0 | G18: 56786 | I18: =G18*H18 -> 0 | J18: =ROUNDDOWN(F18+I18,0) -> 0
B19: 令和9年10月 | C19: 149 | E19: 100 | F19: =C19*D19*(1.85-E19/100) -> 0 | G19: 52551 | I19: =G19*H19 -> 0 | J19: =ROUNDDOWN(F19+I19,0) -> 0
B20: 令和9年11月 | C20: 149 | E20: 100 | F20: =C20*D20*(1.85-E20/100) -> 0 | G20: 53627 | I20: =G20*H20 -> 0 | J20: =ROUNDDOWN(F20+I20,0) -> 0
B21: 令和9年12月 | C21: 149 | E21: 100 | F21: =C21*D21*(1.85-E21/100) -> 0 | G21: 51713 | I21: =G21*H21 -> 0 | J21: =ROUNDDOWN(F21+I21,0) -> 0
B22: 令和9年の計 （A） | J22: =SUM(J10:J21) -> 0
